BEGIN:VCALENDAR
VERSION:2.0
PRODID:-//CERN ⎜ ❍ Futur Collisionneur Circulaire - ECPv6.2.8.2//NONSGML v1.0//EN
CALSCALE:GREGORIAN
METHOD:PUBLISH
X-WR-CALNAME:CERN ⎜ ❍ Futur Collisionneur Circulaire
X-ORIGINAL-URL:https://faisability.crdev.gr
X-WR-CALDESC:évènements pour CERN ⎜ ❍ Futur Collisionneur Circulaire
REFRESH-INTERVAL;VALUE=DURATION:PT1H
X-Robots-Tag:noindex
X-PUBLISHED-TTL:PT1H
BEGIN:VTIMEZONE
TZID:Europe/Paris
BEGIN:DAYLIGHT
TZOFFSETFROM:+0100
TZOFFSETTO:+0200
TZNAME:CEST
DTSTART:20240331T010000
END:DAYLIGHT
BEGIN:STANDARD
TZOFFSETFROM:+0200
TZOFFSETTO:+0100
TZNAME:CET
DTSTART:20241027T010000
END:STANDARD
END:VTIMEZONE
BEGIN:VEVENT
DTSTART;VALUE=DATE:20240701
DTEND;VALUE=DATE:20240713
DTSTAMP:20260423T023606
CREATED:20240627T155246Z
LAST-MODIFIED:20240627T155643Z
UID:2225-1719792000-1720828799@faisability.crdev.gr
SUMMARY:Photographies aériennes des sites de surface
DESCRIPTION:Des vols de drones sont prévus afin d’effectuer des prises de vues photos et vidéo des sites de surface \n 
URL:https://faisability.crdev.gr/event/photographies-aeriennes-des-sites-de-surface/
LOCATION:Presinge & Choulex\, Nangy\, Etaux\, Cercier\, Groisy & Charvonnex\, Dingy-En-Vuache\, Challex\, Satigny\, Dardagny\, Ferney-Voltaire\, Prevessin-Moens\, Meyrin.
CATEGORIES:France,Suisse
END:VEVENT
BEGIN:VEVENT
DTSTART;VALUE=DATE:20240702
DTEND;VALUE=DATE:20240719
DTSTAMP:20260423T023606
CREATED:20240531T140648Z
LAST-MODIFIED:20240627T155545Z
UID:2555-1719878400-1721347199@faisability.crdev.gr
SUMMARY:Sondages pédologiques
DESCRIPTION:Utilisation de tarière pour déterminer la nature des horizons pédologiques.
URL:https://faisability.crdev.gr/event/sondages-pedologiques-4/
LOCATION:Dingy\, Cercier\, Charvonnex
CATEGORIES:France
END:VEVENT
BEGIN:VEVENT
DTSTART;VALUE=DATE:20240715
DTEND;VALUE=DATE:20240718
DTSTAMP:20260423T023606
CREATED:20240531T140952Z
LAST-MODIFIED:20240531T140952Z
UID:2389-1721001600-1721260799@faisability.crdev.gr
SUMMARY:Inventaire des surfaces forestières sur les sites de surface
DESCRIPTION:
URL:https://faisability.crdev.gr/event/inventaire-des-surfaces-forestieres-sur-les-sites-de-surface/
LOCATION:Ferney-Voltaire\, Cercier\, Marlioz\, Charvonnex\, Groisy\, Eteaux\, La-Roche-sur-Foron\, Dingy-en-Vuache\, Vulbens
CATEGORIES:France
END:VEVENT
BEGIN:VEVENT
DTSTART;VALUE=DATE:20240715
DTEND;VALUE=DATE:20240720
DTSTAMP:20260423T023606
CREATED:20240712T094028Z
LAST-MODIFIED:20240712T094028Z
UID:2579-1721001600-1721433599@faisability.crdev.gr
SUMMARY:Pose de sonomètres
DESCRIPTION:Pose de sonomètres pour mesurer le niveau de bruit dans l’emprise des sites de surface.
URL:https://faisability.crdev.gr/event/pose-de-sonometres/
LOCATION:Nangy\, Eteaux\, Cercier\, Groisy & Charvonnex\, Dingy-En-Vuache\, Challex\, Ferney-Voltaire\, Prevessin-Moens
CATEGORIES:France
END:VEVENT
BEGIN:VEVENT
DTSTART;VALUE=DATE:20240719
DTEND;VALUE=DATE:20240727
DTSTAMP:20260423T023606
CREATED:20240718T150726Z
LAST-MODIFIED:20240718T150726Z
UID:2599-1721347200-1722038399@faisability.crdev.gr
SUMMARY:Retrait des sonomètres
DESCRIPTION:Les sonomètres déposés la semaine du 15 juillet pour mesurer le niveau de bruit dans l’emprise des sites de surface seront récupérés la semaine du 19 juillet au 26 juillet.
URL:https://faisability.crdev.gr/event/retrait-des-sonometres/
LOCATION:Nangy\, Eteaux\, Cercier\, Groisy & Charvonnex\, Dingy-En-Vuache\, Challex\, Ferney-Voltaire\, Prevessin-Moens
CATEGORIES:France
END:VEVENT
BEGIN:VEVENT
DTSTART;VALUE=DATE:20240722
DTEND;VALUE=DATE:20240724
DTSTAMP:20260423T023606
CREATED:20240531T141122Z
LAST-MODIFIED:20240531T141122Z
UID:2559-1721606400-1721779199@faisability.crdev.gr
SUMMARY:Inventaire des surfaces forestières sur les sites de surface
DESCRIPTION:
URL:https://faisability.crdev.gr/event/inventaire-des-surfaces-forestieres-sur-les-sites-de-surface-2/
LOCATION:Ferney-Voltaire\, Cercier\, Marlioz\, Charvonnex\, Groisy\, Eteaux\, La-Roche-sur-Foron\, Dingy-en-Vuache\, Vulbens
CATEGORIES:France
END:VEVENT
BEGIN:VEVENT
DTSTART;VALUE=DATE:20240722
DTEND;VALUE=DATE:20240724
DTSTAMP:20260423T023606
CREATED:20240718T150847Z
LAST-MODIFIED:20240718T150956Z
UID:2598-1721606400-1721779199@faisability.crdev.gr
SUMMARY:Mesure de la qualité de l'air
DESCRIPTION:Les échantillonneurs déposés à la fin du mois de juin pour mesurer la qualité de l’air dans l’emprise des sites de surface seront récupérés le 22 et le 23 juillet.
URL:https://faisability.crdev.gr/event/mesure-de-la-qualite-de-lair-3/
LOCATION:Presinge & Choulex\, Nangy\, Etaux\, Cercier\, Groisy & Charvonnex\, Dingy-En-Vuache\, Challex\, Satigny\, Dardagny\, Ferney-Voltaire\, Prevessin-Moens\, Meyrin.
CATEGORIES:France,Suisse
END:VEVENT
END:VCALENDAR