BEGIN:VCALENDAR
VERSION:2.0
PRODID:-//CERN ⎜ ❍ Futur Collisionneur Circulaire - ECPv6.2.8.2//NONSGML v1.0//EN
CALSCALE:GREGORIAN
METHOD:PUBLISH
X-ORIGINAL-URL:https://faisability.crdev.gr
X-WR-CALDESC:évènements pour CERN ⎜ ❍ Futur Collisionneur Circulaire
REFRESH-INTERVAL;VALUE=DURATION:PT1H
X-Robots-Tag:noindex
X-PUBLISHED-TTL:PT1H
BEGIN:VTIMEZONE
TZID:Europe/Paris
BEGIN:DAYLIGHT
TZOFFSETFROM:+0100
TZOFFSETTO:+0200
TZNAME:CEST
DTSTART:20230326T010000
END:DAYLIGHT
BEGIN:STANDARD
TZOFFSETFROM:+0200
TZOFFSETTO:+0100
TZNAME:CET
DTSTART:20231029T010000
END:STANDARD
BEGIN:DAYLIGHT
TZOFFSETFROM:+0100
TZOFFSETTO:+0200
TZNAME:CEST
DTSTART:20240331T010000
END:DAYLIGHT
BEGIN:STANDARD
TZOFFSETFROM:+0200
TZOFFSETTO:+0100
TZNAME:CET
DTSTART:20241027T010000
END:STANDARD
END:VTIMEZONE
BEGIN:VEVENT
DTSTART;VALUE=DATE:20231227
DTEND;VALUE=DATE:20240106
DTSTAMP:20260423T114737
CREATED:20231221T125826Z
LAST-MODIFIED:20231221T125826Z
UID:2339-1703635200-1704499199@faisability.crdev.gr
SUMMARY:Investigation naturaliste des sites de forage et lignes sismiques: gîtes de chiroptères
DESCRIPTION:Le but de cette sortie naturaliste est de rechercher des gîtes potentiels de chiroptères
URL:https://faisability.crdev.gr/event/investigation-naturaliste-des-sites-de-forage-et-lignes-sismiques-gites-de-chiropteres/
LOCATION:Groisy\, Reignier-Ésery\, Arenthon\, Choisy\, Savigny\, Cercier\, Charvonnex\, Scientrier\, Cuvat\, Allonzier-la-Caille\, Cornier\, Amancy\, La Roche-sur-Foron\, Nangy
CATEGORIES:France
END:VEVENT
BEGIN:VEVENT
DTSTART;VALUE=DATE:20240103
DTEND;VALUE=DATE:20240105
DTSTAMP:20260423T114737
CREATED:20231221T124809Z
LAST-MODIFIED:20231221T124809Z
UID:2333-1704240000-1704412799@faisability.crdev.gr
SUMMARY:Investigation pédologique
DESCRIPTION:
URL:https://faisability.crdev.gr/event/investigation-pedologique-14/
LOCATION:Nangy\, Scientrier\, Arenthon\, Amancy\, La Roche sur Foron\, Challex\, Minzier\, Savigny\, Vulbens\, Pougny\,Dingy-En-Vuache
CATEGORIES:France
END:VEVENT
BEGIN:VEVENT
DTSTART;VALUE=DATE:20240103
DTEND;VALUE=DATE:20240113
DTSTAMP:20260423T114737
CREATED:20231221T125942Z
LAST-MODIFIED:20231221T125942Z
UID:2343-1704240000-1705103999@faisability.crdev.gr
SUMMARY:Investigation naturaliste des sites de forage et lignes sismiques: gîtes de chiroptères
DESCRIPTION:Le but de cette sortie naturaliste est de rechercher des gîtes potentiels de chiroptères
URL:https://faisability.crdev.gr/event/investigation-naturaliste-des-sites-de-forage-et-lignes-sismiques-gites-de-chiropteres-2/
LOCATION:Farges\, Challex\, Marlioz\, Choisy\, Savigny\, Cercier\, Vulbens\, Charvonnex\, Chaumont\, Dingy-en-Vuache\, Cuvat\, Allonzier-la-Caille\, Minzier
CATEGORIES:France
END:VEVENT
BEGIN:VEVENT
DTSTART;VALUE=DATE:20240106
DTEND;VALUE=DATE:20240113
DTSTAMP:20260423T114737
CREATED:20240105T125141Z
LAST-MODIFIED:20240105T125141Z
UID:2355-1704499200-1705103999@faisability.crdev.gr
SUMMARY:Investigation naturaliste des sites de forage et lignes sismiques: gîtes de chiroptères
DESCRIPTION:Le but de cette sortie naturaliste est de rechercher des gîtes potentiels de chiroptères
URL:https://faisability.crdev.gr/event/investigation-naturaliste-des-sites-de-forage-et-lignes-sismiques-gites-de-chiropteres-5/
LOCATION:Allonzier-La-Caille\, Marlioz\, Cercier\, Savigny\, Vulbens\, Chaumont\, Dingy-en-Vuache\, Jonzier-Epagny\, Minzier
CATEGORIES:France
END:VEVENT
BEGIN:VEVENT
DTSTART;VALUE=DATE:20240108
DTEND;VALUE=DATE:20240113
DTSTAMP:20260423T114737
CREATED:20240105T124820Z
LAST-MODIFIED:20240105T124820Z
UID:2349-1704672000-1705103999@faisability.crdev.gr
SUMMARY:Inventaire ciblé des sites de forage et lignes sismiques: oiseaux hivernants
DESCRIPTION:Le but de cette sortie naturaliste est de recenser les oiseaux hivernants
URL:https://faisability.crdev.gr/event/inventaire-cible-des-sites-de-forage-et-lignes-sismiques-oiseaux-hivernants/
LOCATION:Cuvat\, Allonzier-La-Caille\, Choisy\, Cercier\, Marlioz\, Savigny\, Pougny\, Farges\, Vulbens\, Satigny\, Challex\, Dardagny
CATEGORIES:France,Suisse
END:VEVENT
BEGIN:VEVENT
DTSTART;VALUE=DATE:20240109
DTEND;VALUE=DATE:20240112
DTSTAMP:20260423T114737
CREATED:20231221T124858Z
LAST-MODIFIED:20231221T124858Z
UID:2335-1704758400-1705017599@faisability.crdev.gr
SUMMARY:Investigation pédologique
DESCRIPTION:
URL:https://faisability.crdev.gr/event/investigation-pedologique-15/
LOCATION:Nangy\, Scientrier\, Arenthon\, Amancy\, La Roche sur Foron\, Challex\, Minzier\, Savigny\, Vulbens\, Pougny\,Dingy-En-Vuache
CATEGORIES:France
END:VEVENT
BEGIN:VEVENT
DTSTART;VALUE=DATE:20240109
DTEND;VALUE=DATE:20240112
DTSTAMP:20260423T114737
CREATED:20231221T125020Z
LAST-MODIFIED:20231221T125020Z
UID:2337-1704758400-1705017599@faisability.crdev.gr
SUMMARY:Investigation pédologique
DESCRIPTION:
URL:https://faisability.crdev.gr/event/investigation-pedologique-16/
LOCATION:Allonzier-la-Caille\, Choisy
CATEGORIES:France
END:VEVENT
BEGIN:VEVENT
DTSTART;VALUE=DATE:20240109
DTEND;VALUE=DATE:20240113
DTSTAMP:20260423T114737
CREATED:20240105T124528Z
LAST-MODIFIED:20240105T124938Z
UID:2347-1704758400-1705103999@faisability.crdev.gr
SUMMARY:Investigation naturaliste des sites de forage et lignes sismiques: gîtes de chiroptères
DESCRIPTION:Le but de cette sortie naturaliste est de rechercher des gîtes potentiels de chiroptères
URL:https://faisability.crdev.gr/event/investigation-naturaliste-des-sites-de-forage-et-lignes-sismiques-gites-de-chiropteres-3/
LOCATION:Challex\, Dardagny\, Pougny\, Vulbens\, Marlioz\, Cercier\, Savigny\, Vulbens\, Chaumont\, Dingy-en-Vuache\, Jonzier-Epagny\, Minzier
CATEGORIES:France,Suisse
END:VEVENT
BEGIN:VEVENT
DTSTART;VALUE=DATE:20240115
DTEND;VALUE=DATE:20240118
DTSTAMP:20260423T114737
CREATED:20240111T144938Z
LAST-MODIFIED:20240111T144938Z
UID:2360-1705276800-1705535999@faisability.crdev.gr
SUMMARY:Investigation pédologique
DESCRIPTION:
URL:https://faisability.crdev.gr/event/investigation-pedologique-17/
LOCATION:Nangy\, Scientrier\, Arenthon\, Amancy\, La Roche sur Foron\, Challex\, Minzier\, Savigny\, Vulbens\, Pougny\,Dingy-En-Vuache
CATEGORIES:France
END:VEVENT
BEGIN:VEVENT
DTSTART;VALUE=DATE:20240115
DTEND;VALUE=DATE:20240118
DTSTAMP:20260423T114737
CREATED:20240111T145051Z
LAST-MODIFIED:20240111T145051Z
UID:2362-1705276800-1705535999@faisability.crdev.gr
SUMMARY:Investigation pédologique
DESCRIPTION:
URL:https://faisability.crdev.gr/event/investigation-pedologique-18/
LOCATION:Allonzier-la-Caille\, Choisy
CATEGORIES:France
END:VEVENT
BEGIN:VEVENT
DTSTART;VALUE=DATE:20240118
DTEND;VALUE=DATE:20240120
DTSTAMP:20260423T114737
CREATED:20240105T125031Z
LAST-MODIFIED:20240105T125031Z
UID:2353-1705536000-1705708799@faisability.crdev.gr
SUMMARY:Investigation naturaliste des sites de forage et lignes sismiques: gîtes de chiroptères
DESCRIPTION:Le but de cette sortie naturaliste est de rechercher des gîtes potentiels de chiroptères
URL:https://faisability.crdev.gr/event/investigation-naturaliste-des-sites-de-forage-et-lignes-sismiques-gites-de-chiropteres-4/
LOCATION:Challex\, Dardagny\, Pougny\, Vulbens\, Marlioz\, Cercier\, Savigny\, Vulbens\, Chaumont\, Dingy-en-Vuache\, Jonzier-Epagny\, Minzier
CATEGORIES:France,Suisse
END:VEVENT
BEGIN:VEVENT
DTSTART;VALUE=DATE:20240122
DTEND;VALUE=DATE:20240129
DTSTAMP:20260423T114737
CREATED:20240119T100139Z
LAST-MODIFIED:20240119T100139Z
UID:2368-1705881600-1706486399@faisability.crdev.gr
SUMMARY:Investigation naturaliste des sites de forage et lignes sismiques: gîtes de chiroptères
DESCRIPTION:Le but de cette sortie naturaliste est de rechercher des gîtes potentiels de chiroptères
URL:https://faisability.crdev.gr/event/investigation-naturaliste-des-sites-de-forage-et-lignes-sismiques-gites-de-chiropteres-7/
LOCATION:Savigny\, Vulbens\, Chaumont\, Dingy-en-Vuache\, Jonzier-Epagny\, Minzier\, Marlioz\, Cercier\, Challex\, Dardagny\, Groisy\, Charvonnex
CATEGORIES:France,Suisse
END:VEVENT
BEGIN:VEVENT
DTSTART;VALUE=DATE:20240123
DTEND;VALUE=DATE:20240126
DTSTAMP:20260423T114737
CREATED:20240119T095936Z
LAST-MODIFIED:20240119T095936Z
UID:2365-1705968000-1706227199@faisability.crdev.gr
SUMMARY:Investigation pédologique
DESCRIPTION:
URL:https://faisability.crdev.gr/event/investigation-pedologique-19/
LOCATION:Nangy\, Scientrier\, Arenthon\, Amancy\, La Roche sur Foron\, Challex\, Minzier\, Savigny\, Vulbens\, Pougny\,Dingy-En-Vuache; Ferney-Voltaire
CATEGORIES:France
END:VEVENT
BEGIN:VEVENT
DTSTART;VALUE=DATE:20240127
DTEND;VALUE=DATE:20240205
DTSTAMP:20260423T114737
CREATED:20240126T173626Z
LAST-MODIFIED:20240201T105747Z
UID:2374-1706313600-1707091199@faisability.crdev.gr
SUMMARY:Investigation naturaliste des sites de forage et lignes sismiques: gîtes de chiroptères
DESCRIPTION:Le but de cette sortie naturaliste est de rechercher des gîtes potentiels de chiroptères
URL:https://faisability.crdev.gr/event/investigation-naturaliste-des-sites-de-forage-et-lignes-sismiques-gites-de-chiropteres-9/
LOCATION:Pougny\, Savigny\, Vulbens\, Chaumont\, Dingy-en-Vuache\, Jonzier-Epagny\, Minzier\, Marlioz\, Cercier\, Challex\, Dardagny\, Groisy\, Charvonnex
CATEGORIES:France,Suisse
END:VEVENT
BEGIN:VEVENT
DTSTART;VALUE=DATE:20240129
DTEND;VALUE=DATE:20240203
DTSTAMP:20260423T114737
CREATED:20240126T174006Z
LAST-MODIFIED:20240126T174006Z
UID:2377-1706486400-1706918399@faisability.crdev.gr
SUMMARY:Inventaire ciblé des sites de forage et lignes sismiques: oiseaux hivernants
DESCRIPTION:Le but de cette sortie naturaliste est de recenser les oiseaux hivernants
URL:https://faisability.crdev.gr/event/inventaire-cible-des-sites-de-forage-et-lignes-sismiques-oiseaux-hivernants-2/
LOCATION:Savigny\, Pougny\, Farges\, Vulbens\, Satigny\, Challex\, Dardagny\, Meyrin\, Prévessin-Moëns\, Ferney-Voltaire
CATEGORIES:France,Suisse
END:VEVENT
END:VCALENDAR