BEGIN:VCALENDAR
VERSION:2.0
PRODID:-//CERN ⎜ ❍ Futur Collisionneur Circulaire - ECPv6.2.8.2//NONSGML v1.0//EN
CALSCALE:GREGORIAN
METHOD:PUBLISH
X-WR-CALNAME:CERN ⎜ ❍ Futur Collisionneur Circulaire
X-ORIGINAL-URL:https://faisability.crdev.gr
X-WR-CALDESC:évènements pour CERN ⎜ ❍ Futur Collisionneur Circulaire
REFRESH-INTERVAL;VALUE=DURATION:PT1H
X-Robots-Tag:noindex
X-PUBLISHED-TTL:PT1H
BEGIN:VTIMEZONE
TZID:Europe/Paris
BEGIN:DAYLIGHT
TZOFFSETFROM:+0100
TZOFFSETTO:+0200
TZNAME:CEST
DTSTART:20230326T010000
END:DAYLIGHT
BEGIN:STANDARD
TZOFFSETFROM:+0200
TZOFFSETTO:+0100
TZNAME:CET
DTSTART:20231029T010000
END:STANDARD
END:VTIMEZONE
BEGIN:VEVENT
DTSTART;TZID=Europe/Paris:20230403T080000
DTEND;TZID=Europe/Paris:20230407T170000
DTSTAMP:20260424T013320
CREATED:20230404T081012Z
LAST-MODIFIED:20230404T081012Z
UID:1876-1680508800-1680886800@faisability.crdev.gr
SUMMARY:Environmental investigation of surface sites & geotechnical sites + surface sites
DESCRIPTION:Inventaires de terrains ciblés sur les batraciens
URL:https://faisability.crdev.gr/event/environmental-investigation-of-surface-sites-geotechnical-sites-surface-sites-6/
CATEGORIES:France
END:VEVENT
BEGIN:VEVENT
DTSTART;TZID=Europe/Paris:20230403T080000
DTEND;TZID=Europe/Paris:20230407T170000
DTSTAMP:20260424T013320
CREATED:20230404T081053Z
LAST-MODIFIED:20230404T081053Z
UID:1878-1680508800-1680886800@faisability.crdev.gr
SUMMARY:Environmental investigation of surface sites & geotechnical sites + surface sites
DESCRIPTION:Inventaires de terrains ciblés sur les oiseeaux
URL:https://faisability.crdev.gr/event/environmental-investigation-of-surface-sites-geotechnical-sites-surface-sites-7/
LOCATION:Haute-Savoie
CATEGORIES:France
END:VEVENT
BEGIN:VEVENT
DTSTART;TZID=Europe/Paris:20230403T080000
DTEND;TZID=Europe/Paris:20230407T170000
DTSTAMP:20260424T013320
CREATED:20230404T081133Z
LAST-MODIFIED:20230404T081148Z
UID:1880-1680508800-1680886800@faisability.crdev.gr
SUMMARY:Investigations des sites de srufaces\, des Borehles et de seismic lines
DESCRIPTION:Inventaires de terrains ciblés sur les oiseeaux
URL:https://faisability.crdev.gr/event/investigations-des-sites-de-srufaces-des-borehles-et-de-seismic-lines/
LOCATION:Haute-Savoie
CATEGORIES:France
END:VEVENT
BEGIN:VEVENT
DTSTART;TZID=Europe/Paris:20230410T080000
DTEND;TZID=Europe/Paris:20230414T170000
DTSTAMP:20260424T013320
CREATED:20230404T081224Z
LAST-MODIFIED:20230404T081224Z
UID:1882-1681113600-1681491600@faisability.crdev.gr
SUMMARY:Investigations des sites de srufaces\, des Borehles et de seismic lines
DESCRIPTION:Investigations batrachologiques de terrain
URL:https://faisability.crdev.gr/event/investigations-des-sites-de-srufaces-des-borehles-et-de-seismic-lines-2/
LOCATION:Ain
CATEGORIES:France
END:VEVENT
BEGIN:VEVENT
DTSTART;TZID=Europe/Paris:20230410T080000
DTEND;TZID=Europe/Paris:20230414T170000
DTSTAMP:20260424T013320
CREATED:20230404T081310Z
LAST-MODIFIED:20230404T081310Z
UID:1884-1681113600-1681491600@faisability.crdev.gr
SUMMARY:Investigations des sites de srufaces\, des Borehles et de seismic lines
DESCRIPTION:Investigations batrachologiques de terrain
URL:https://faisability.crdev.gr/event/investigations-des-sites-de-srufaces-des-borehles-et-de-seismic-lines-3/
LOCATION:Canton de Genève
CATEGORIES:Suisse
END:VEVENT
BEGIN:VEVENT
DTSTART;TZID=Europe/Paris:20230417T080000
DTEND;TZID=Europe/Paris:20230421T170000
DTSTAMP:20260424T013320
CREATED:20230511T123206Z
LAST-MODIFIED:20230511T123206Z
UID:1889-1681718400-1682096400@faisability.crdev.gr
SUMMARY:Investigations des sites de surface\, des BoreHoles et des seismic lines
DESCRIPTION:Inventaires de terrains ciblés sur les oiseaux
URL:https://faisability.crdev.gr/event/investigations-des-sites-de-surface-des-boreholes-et-des-seismic-lines/
LOCATION:Ferney-Voltaire\, Prevessin-Moens\, Meyrin\, Challex
CATEGORIES:France,Suisse
END:VEVENT
BEGIN:VEVENT
DTSTART;TZID=Europe/Paris:20230417T080000
DTEND;TZID=Europe/Paris:20230421T170000
DTSTAMP:20260424T013320
CREATED:20230511T123314Z
LAST-MODIFIED:20230511T123314Z
UID:1892-1681718400-1682096400@faisability.crdev.gr
SUMMARY:Investigations des sites de surface\, des BoreHoles et des seismic lines
DESCRIPTION:Investigations floristiques de terrain
URL:https://faisability.crdev.gr/event/investigations-des-sites-de-surface-des-boreholes-et-des-seismic-lines-2/
LOCATION:Pougny\, Vulbens\,Dingy-en-Vuache\, Ferney-Voltaire\, France
CATEGORIES:France
END:VEVENT
BEGIN:VEVENT
DTSTART;TZID=Europe/Paris:20230417T080000
DTEND;TZID=Europe/Paris:20230421T170000
DTSTAMP:20260424T013320
CREATED:20230511T123604Z
LAST-MODIFIED:20230511T123604Z
UID:1897-1681718400-1682096400@faisability.crdev.gr
SUMMARY:Investigations des sites de surface\, des BoreHoles et des seismic lines
DESCRIPTION:Inventaires de terrains ciblés sur les oiseaux
URL:https://faisability.crdev.gr/event/investigations-des-sites-de-surface-des-boreholes-et-des-seismic-lines-4/
CATEGORIES:France,Suisse
END:VEVENT
BEGIN:VEVENT
DTSTART;TZID=Europe/Paris:20230424T080000
DTEND;TZID=Europe/Paris:20230429T170000
DTSTAMP:20260424T013320
CREATED:20230511T123446Z
LAST-MODIFIED:20230511T123446Z
UID:1895-1682323200-1682787600@faisability.crdev.gr
SUMMARY:Investigations des sites de surface\, des BoreHoles et des seismic lines
DESCRIPTION:Investigations floristiques de terrain
URL:https://faisability.crdev.gr/event/investigations-des-sites-de-surface-des-boreholes-et-des-seismic-lines-3/
CATEGORIES:Suisse
END:VEVENT
END:VCALENDAR