BEGIN:VCALENDAR
VERSION:2.0
PRODID:-//CERN ⎜ ❍ Futur Collisionneur Circulaire - ECPv6.2.8.2//NONSGML v1.0//EN
CALSCALE:GREGORIAN
METHOD:PUBLISH
X-WR-CALNAME:CERN ⎜ ❍ Futur Collisionneur Circulaire
X-ORIGINAL-URL:https://faisability.crdev.gr
X-WR-CALDESC:évènements pour CERN ⎜ ❍ Futur Collisionneur Circulaire
REFRESH-INTERVAL;VALUE=DURATION:PT1H
X-Robots-Tag:noindex
X-PUBLISHED-TTL:PT1H
BEGIN:VTIMEZONE
TZID:Europe/Paris
BEGIN:DAYLIGHT
TZOFFSETFROM:+0100
TZOFFSETTO:+0200
TZNAME:CEST
DTSTART:20230326T010000
END:DAYLIGHT
BEGIN:STANDARD
TZOFFSETFROM:+0200
TZOFFSETTO:+0100
TZNAME:CET
DTSTART:20231029T010000
END:STANDARD
END:VTIMEZONE
BEGIN:VEVENT
DTSTART;VALUE=DATE:20230308
DTEND;VALUE=DATE:20230309
DTSTAMP:20260424T031258
CREATED:20230307T124818Z
LAST-MODIFIED:20230307T124818Z
UID:1842-1678233600-1678319999@faisability.crdev.gr
SUMMARY:Quick visit - Remote visual inspection
DESCRIPTION:The contractor EGIS RAIL will have a quick visit to remotely inspect some of the potential proposed surface sites for FCC points (A\, B\, F\, G\, J\, L). The visit will be quick and they will not enter in the field or causing any disturbance to local activities.
URL:https://faisability.crdev.gr/event/quick-visit-remote-visual-inspection/
CATEGORIES:France,Suisse
END:VEVENT
BEGIN:VEVENT
DTSTART;TZID=Europe/Paris:20230315T080000
DTEND;TZID=Europe/Paris:20230315T170000
DTSTAMP:20260424T031258
CREATED:20230404T075752Z
LAST-MODIFIED:20230404T075752Z
UID:1846-1678867200-1678899600@faisability.crdev.gr
SUMMARY:Environmental investigation of surface sites
DESCRIPTION:Batrachology field investigations
URL:https://faisability.crdev.gr/event/environmental-investigation-of-surface-sites-2/
LOCATION:Ferney-Voltaire\, Ferney-Voltaire\, Département Ain\, France
CATEGORIES:France
END:VEVENT
BEGIN:VEVENT
DTSTART;TZID=Europe/Paris:20230315T080000
DTEND;TZID=Europe/Paris:20230315T170000
DTSTAMP:20260424T031258
CREATED:20230404T075852Z
LAST-MODIFIED:20230404T075852Z
UID:1848-1678867200-1678899600@faisability.crdev.gr
SUMMARY:Environmental investigation of surface sites
DESCRIPTION:Batrachology field investigations
URL:https://faisability.crdev.gr/event/environmental-investigation-of-surface-sites-6/
LOCATION:Etaux\, Département de la Haute-Savoie\, France
CATEGORIES:France
END:VEVENT
BEGIN:VEVENT
DTSTART;TZID=Europe/Paris:20230315T080000
DTEND;TZID=Europe/Paris:20230315T170000
DTSTAMP:20260424T031258
CREATED:20230404T075938Z
LAST-MODIFIED:20230404T075938Z
UID:1850-1678867200-1678899600@faisability.crdev.gr
SUMMARY:Environmental investigation of surface sites
DESCRIPTION:Ornithology field investigations
URL:https://faisability.crdev.gr/event/environmental-investigation-of-surface-sites-7/
LOCATION:Ferney-Voltaire\, Ferney-Voltaire\, Département Ain\, France
CATEGORIES:France
END:VEVENT
BEGIN:VEVENT
DTSTART;TZID=Europe/Paris:20230315T080000
DTEND;TZID=Europe/Paris:20230315T170000
DTSTAMP:20260424T031258
CREATED:20230404T080010Z
LAST-MODIFIED:20230404T080010Z
UID:1852-1678867200-1678899600@faisability.crdev.gr
SUMMARY:Environmental investigation of surface sites
DESCRIPTION:Ornithology field investigations
URL:https://faisability.crdev.gr/event/environmental-investigation-of-surface-sites-8/
LOCATION:Etaux\, Département de la Haute-Savoie\, France
CATEGORIES:France
END:VEVENT
BEGIN:VEVENT
DTSTART;TZID=Europe/Paris:20230315T080000
DTEND;TZID=Europe/Paris:20230315T170000
DTSTAMP:20260424T031258
CREATED:20230404T080041Z
LAST-MODIFIED:20230404T080041Z
UID:1854-1678867200-1678899600@faisability.crdev.gr
SUMMARY:Environmental investigation of surface sites
DESCRIPTION:Ornithology field investigations
URL:https://faisability.crdev.gr/event/environmental-investigation-of-surface-sites-9/
LOCATION:Nangy\, Département de la Haute-Savoie\, France
CATEGORIES:France
END:VEVENT
BEGIN:VEVENT
DTSTART;TZID=Europe/Paris:20230315T080000
DTEND;TZID=Europe/Paris:20230315T170000
DTSTAMP:20260424T031258
CREATED:20230404T080148Z
LAST-MODIFIED:20230404T080148Z
UID:1856-1678867200-1678899600@faisability.crdev.gr
SUMMARY:Environmental investigation of surface sites
DESCRIPTION:Ornithology field investigations
URL:https://faisability.crdev.gr/event/environmental-investigation-of-surface-sites-10/
LOCATION:Dingy-en-Vuache
CATEGORIES:France
END:VEVENT
BEGIN:VEVENT
DTSTART;TZID=Europe/Paris:20230317T080000
DTEND;TZID=Europe/Paris:20230317T170000
DTSTAMP:20260424T031258
CREATED:20230404T080240Z
LAST-MODIFIED:20230404T080240Z
UID:1859-1679040000-1679072400@faisability.crdev.gr
SUMMARY:Field photoshooting
DESCRIPTION:Photographie de terrain
URL:https://faisability.crdev.gr/event/field-photoshooting/
CATEGORIES:France
END:VEVENT
BEGIN:VEVENT
DTSTART;TZID=Europe/Paris:20230317T080000
DTEND;TZID=Europe/Paris:20230317T170000
DTSTAMP:20260424T031258
CREATED:20230404T080326Z
LAST-MODIFIED:20230404T080442Z
UID:1861-1679040000-1679072400@faisability.crdev.gr
SUMMARY:Environmental investigation of surface sites & geotechnical sites
DESCRIPTION:Inventaires de terrains ciblés sur les odonates
URL:https://faisability.crdev.gr/event/environmental-investigation-of-surface-sites-geotechnical-sites/
CATEGORIES:France
END:VEVENT
BEGIN:VEVENT
DTSTART;TZID=Europe/Paris:20230324T080000
DTEND;TZID=Europe/Paris:20230324T170000
DTSTAMP:20260424T031258
CREATED:20230404T080617Z
LAST-MODIFIED:20230404T080617Z
UID:1863-1679644800-1679677200@faisability.crdev.gr
SUMMARY:Environmental investigation of surface sites & geotechnical sites + surface sites
DESCRIPTION:Inventaires de terrains ciblés sur les oiseeaux
URL:https://faisability.crdev.gr/event/environmental-investigation-of-surface-sites-geotechnical-sites-surface-sites/
LOCATION:Canton de Genève
CATEGORIES:Suisse
END:VEVENT
BEGIN:VEVENT
DTSTART;TZID=Europe/Paris:20230324T080000
DTEND;TZID=Europe/Paris:20230324T170000
DTSTAMP:20260424T031258
CREATED:20230404T080723Z
LAST-MODIFIED:20230404T080723Z
UID:1866-1679644800-1679677200@faisability.crdev.gr
SUMMARY:Environmental investigation of surface sites & geotechnical sites + surface sites
DESCRIPTION:Inventaires de terrains ciblés sur les oiseeaux
URL:https://faisability.crdev.gr/event/environmental-investigation-of-surface-sites-geotechnical-sites-surface-sites-2/
LOCATION:Ain
CATEGORIES:France
END:VEVENT
BEGIN:VEVENT
DTSTART;TZID=Europe/Paris:20230324T080000
DTEND;TZID=Europe/Paris:20230324T170000
DTSTAMP:20260424T031258
CREATED:20230404T080758Z
LAST-MODIFIED:20230404T080758Z
UID:1869-1679644800-1679677200@faisability.crdev.gr
SUMMARY:Environmental investigation of surface sites & geotechnical sites + surface sites
DESCRIPTION:Inventaires de terrains ciblés sur les oiseeaux
URL:https://faisability.crdev.gr/event/environmental-investigation-of-surface-sites-geotechnical-sites-surface-sites-3/
LOCATION:Haute-Savoie
CATEGORIES:France
END:VEVENT
BEGIN:VEVENT
DTSTART;TZID=Europe/Paris:20230324T080000
DTEND;TZID=Europe/Paris:20230324T170000
DTSTAMP:20260424T031258
CREATED:20230404T080830Z
LAST-MODIFIED:20230404T080830Z
UID:1872-1679644800-1679677200@faisability.crdev.gr
SUMMARY:Environmental investigation of surface sites & geotechnical sites + surface sites
DESCRIPTION:Inventaires de terrain ciblés sur les batraciens
URL:https://faisability.crdev.gr/event/environmental-investigation-of-surface-sites-geotechnical-sites-surface-sites-4/
LOCATION:Ain
CATEGORIES:France
END:VEVENT
BEGIN:VEVENT
DTSTART;TZID=Europe/Paris:20230324T080000
DTEND;TZID=Europe/Paris:20230324T170000
DTSTAMP:20260424T031258
CREATED:20230404T080926Z
LAST-MODIFIED:20230404T080926Z
UID:1874-1679644800-1679677200@faisability.crdev.gr
SUMMARY:Environmental investigation of surface sites & geotechnical sites + surface sites
DESCRIPTION:Inventaires de terrains ciblés sur les oiseeaux
URL:https://faisability.crdev.gr/event/environmental-investigation-of-surface-sites-geotechnical-sites-surface-sites-5/
LOCATION:Haute-Savoie
CATEGORIES:France
END:VEVENT
END:VCALENDAR