BEGIN:VCALENDAR
VERSION:2.0
PRODID:-//CERN ⎜ ❍ Futur Collisionneur Circulaire - ECPv6.2.8.2//NONSGML v1.0//EN
CALSCALE:GREGORIAN
METHOD:PUBLISH
X-ORIGINAL-URL:https://faisability.crdev.gr
X-WR-CALDESC:évènements pour CERN ⎜ ❍ Futur Collisionneur Circulaire
REFRESH-INTERVAL;VALUE=DURATION:PT1H
X-Robots-Tag:noindex
X-PUBLISHED-TTL:PT1H
BEGIN:VTIMEZONE
TZID:Europe/Paris
BEGIN:DAYLIGHT
TZOFFSETFROM:+0100
TZOFFSETTO:+0200
TZNAME:CEST
DTSTART:20240331T010000
END:DAYLIGHT
BEGIN:STANDARD
TZOFFSETFROM:+0200
TZOFFSETTO:+0100
TZNAME:CET
DTSTART:20241027T010000
END:STANDARD
END:VTIMEZONE
BEGIN:VEVENT
DTSTART;VALUE=DATE:20240212
DTEND;VALUE=DATE:20240219
DTSTAMP:20260423T123138
CREATED:20240208T150211Z
LAST-MODIFIED:20240208T150211Z
UID:2386-1707696000-1708300799@faisability.crdev.gr
SUMMARY:Inventaire ciblé des sites de forage et lignes sismiques: oiseaux hivernants
DESCRIPTION:Le but de cette sortie naturaliste est de recenser les oiseaux hivernants
URL:https://faisability.crdev.gr/event/inventaire-cible-des-sites-de-forage-et-lignes-sismiques-oiseaux-hivernants-3/
LOCATION:Savigny\, Pougny\, Farges\, Vulbens\, Satigny\, Challex\, Dardagny\, Meyrin\, Prévessin-Moëns\, Ferney-Voltaire
CATEGORIES:France,Suisse
END:VEVENT
END:VCALENDAR