BEGIN:VCALENDAR
VERSION:2.0
PRODID:-//CERN ⎜ ❍ Futur Collisionneur Circulaire - ECPv6.2.8.2//NONSGML v1.0//EN
CALSCALE:GREGORIAN
METHOD:PUBLISH
X-ORIGINAL-URL:https://faisability.crdev.gr
X-WR-CALDESC:évènements pour CERN ⎜ ❍ Futur Collisionneur Circulaire
REFRESH-INTERVAL;VALUE=DURATION:PT1H
X-Robots-Tag:noindex
X-PUBLISHED-TTL:PT1H
BEGIN:VTIMEZONE
TZID:Europe/Paris
BEGIN:DAYLIGHT
TZOFFSETFROM:+0100
TZOFFSETTO:+0200
TZNAME:CEST
DTSTART:20230326T010000
END:DAYLIGHT
BEGIN:STANDARD
TZOFFSETFROM:+0200
TZOFFSETTO:+0100
TZNAME:CET
DTSTART:20231029T010000
END:STANDARD
END:VTIMEZONE
BEGIN:VEVENT
DTSTART;TZID=Europe/Paris:20230724T080000
DTEND;TZID=Europe/Paris:20230728T170000
DTSTAMP:20260423T234804
CREATED:20230719T082428Z
LAST-MODIFIED:20230719T082428Z
UID:2061-1690185600-1690563600@faisability.crdev.gr
SUMMARY:Investigations des sites de surface
DESCRIPTION:Ecoutes ultrasonores des chauves-souris
URL:https://faisability.crdev.gr/event/investigations-des-sites-de-surface-4/
LOCATION:Presinge & Choulex
CATEGORIES:Suisse
END:VEVENT
END:VCALENDAR