BEGIN:VCALENDAR
VERSION:2.0
PRODID:-//CERN ⎜ ❍ Futur Collisionneur Circulaire - ECPv6.2.8.2//NONSGML v1.0//EN
CALSCALE:GREGORIAN
METHOD:PUBLISH
X-ORIGINAL-URL:https://faisability.crdev.gr
X-WR-CALDESC:évènements pour CERN ⎜ ❍ Futur Collisionneur Circulaire
REFRESH-INTERVAL;VALUE=DURATION:PT1H
X-Robots-Tag:noindex
X-PUBLISHED-TTL:PT1H
BEGIN:VTIMEZONE
TZID:Europe/Paris
BEGIN:DAYLIGHT
TZOFFSETFROM:+0100
TZOFFSETTO:+0200
TZNAME:CEST
DTSTART:20240331T010000
END:DAYLIGHT
BEGIN:STANDARD
TZOFFSETFROM:+0200
TZOFFSETTO:+0100
TZNAME:CET
DTSTART:20241027T010000
END:STANDARD
END:VTIMEZONE
BEGIN:VEVENT
DTSTART;VALUE=DATE:20240320
DTEND;VALUE=DATE:20240408
DTSTAMP:20260423T092415
CREATED:20240319T153447Z
LAST-MODIFIED:20240327T162429Z
UID:2401-1710892800-1712534399@faisability.crdev.gr
SUMMARY:Estimations de boisements propices aux chiroptères sur les sites de surfaces
DESCRIPTION:
URL:https://faisability.crdev.gr/event/estimations-de-boisements-propices-aux-chiropteres-sur-les-sites-de-surfaces/
LOCATION:Choulex\, Presinge\,Eteaux\, Groisy\, Charvonnex\, Cercier\, Marlioz\, Challex
CATEGORIES:France,Suisse
END:VEVENT
END:VCALENDAR