BEGIN:VCALENDAR
VERSION:2.0
PRODID:-//CERN ⎜ ❍ Futur Collisionneur Circulaire - ECPv6.2.8.2//NONSGML v1.0//EN
CALSCALE:GREGORIAN
METHOD:PUBLISH
X-ORIGINAL-URL:https://faisability.crdev.gr
X-WR-CALDESC:évènements pour CERN ⎜ ❍ Futur Collisionneur Circulaire
REFRESH-INTERVAL;VALUE=DURATION:PT1H
X-Robots-Tag:noindex
X-PUBLISHED-TTL:PT1H
BEGIN:VTIMEZONE
TZID:Europe/Paris
BEGIN:DAYLIGHT
TZOFFSETFROM:+0100
TZOFFSETTO:+0200
TZNAME:CEST
DTSTART:20230326T010000
END:DAYLIGHT
BEGIN:STANDARD
TZOFFSETFROM:+0200
TZOFFSETTO:+0100
TZNAME:CET
DTSTART:20231029T010000
END:STANDARD
END:VTIMEZONE
BEGIN:VEVENT
DTSTART;TZID=Europe/Paris:20230828T080000
DTEND;TZID=Europe/Paris:20230901T170000
DTSTAMP:20260423T185346
CREATED:20230824T071915Z
LAST-MODIFIED:20230824T072729Z
UID:2145-1693209600-1693587600@faisability.crdev.gr
SUMMARY:Investigations des sites de surface et des sites de sondages
DESCRIPTION:Relevés naturalistes ciblés sur les insectes \nLe travail des naturalistes et des intervenants de la société d’Ecotec\, mandatée par la CERN\, consiste à étudier les différents aspects environnementaux sur le terrain\, en complément des informations fournies par la bibliographie. Pour ce faire\, les experts disposent d’un ensemble d’équipements adaptés à leurs besoins\, ce qui leur permet d’observer des espèces afin de les identifier. Par exemple\, pour les observations ornithologiques\, une paire de jumelles ou un télescope accompagné d’une tablette graphique sont nécessaires pour enregistrer toutes les observations faites sur le terrain. Certains domaines biologiques requièrent une technologie plus avancée\, comme les chauves-souris\, qui sont surveillées à l’aide d’enregistreurs à ultrasons statiques ou dynamiques. Ces enregistrements sont ensuite analysés par un logiciel pour identifier les espèces entendues et étudier leur activité. Les inventaires de terrain réalisés permettent de recenser le plus exhaustivement possible les espèces observées afin de mettre en évidence les enjeux écologiques pouvant exister dans les zones d’étude. Le niveau d’importance des espèces est directement lié à leur statut patrimonial et/ou réglementaire. Ce niveau d’enjeux permet de prendre les mesures de réduction et d’évitement appropriées\, afin que l’impact du projet soit limité dans le temps et dans l’espace.
URL:https://faisability.crdev.gr/event/investigations-des-sites-de-surface-et-des-sites-de-sondages-26/
LOCATION:Pougny\, Challex\, Dardagny
CATEGORIES:France,Suisse
END:VEVENT
BEGIN:VEVENT
DTSTART;TZID=Europe/Paris:20230828T080000
DTEND;TZID=Europe/Paris:20230901T170000
DTSTAMP:20260423T185346
CREATED:20230824T072706Z
LAST-MODIFIED:20230824T072706Z
UID:2149-1693209600-1693587600@faisability.crdev.gr
SUMMARY:Investigations des sites de surface et des sites de sondages
DESCRIPTION:Relevés naturalistes ciblés sur les reptiles \nLe travail des naturalistes et des intervenants de la société d’Ecotec\, mandatée par la CERN\, consiste à étudier les différents aspects environnementaux sur le terrain\, en complément des informations fournies par la bibliographie. Pour ce faire\, les experts disposent d’un ensemble d’équipements adaptés à leurs besoins\, ce qui leur permet d’observer des espèces afin de les identifier. Par exemple\, pour les observations ornithologiques\, une paire de jumelles ou un télescope accompagné d’une tablette graphique sont nécessaires pour enregistrer toutes les observations faites sur le terrain. Certains domaines biologiques requièrent une technologie plus avancée\, comme les chauves-souris\, qui sont surveillées à l’aide d’enregistreurs à ultrasons statiques ou dynamiques. Ces enregistrements sont ensuite analysés par un logiciel pour identifier les espèces entendues et étudier leur activité. Les inventaires de terrain réalisés permettent de recenser le plus exhaustivement possible les espèces observées afin de mettre en évidence les enjeux écologiques pouvant exister dans les zones d’étude. Le niveau d’importance des espèces est directement lié à leur statut patrimonial et/ou réglementaire. Ce niveau d’enjeux permet de prendre les mesures de réduction et d’évitement appropriées\, afin que l’impact du projet soit limité dans le temps et dans l’espace.
URL:https://faisability.crdev.gr/event/investigations-des-sites-de-surface-et-des-sites-de-sondages-27/
LOCATION:Satigny\, Dardagny
CATEGORIES:Suisse
END:VEVENT
BEGIN:VEVENT
DTSTART;TZID=Europe/Paris:20230829T080000
DTEND;TZID=Europe/Paris:20230901T170000
DTSTAMP:20260423T185346
CREATED:20230829T145811Z
LAST-MODIFIED:20230829T145811Z
UID:2154-1693296000-1693587600@faisability.crdev.gr
SUMMARY:Bidders visit
DESCRIPTION:
URL:https://faisability.crdev.gr/event/bidders-visit/
CATEGORIES:France,Suisse
END:VEVENT
BEGIN:VEVENT
DTSTART;VALUE=DATE:20230920
DTEND;VALUE=DATE:20230921
DTSTAMP:20260423T185346
CREATED:20230918T153652Z
LAST-MODIFIED:20230918T153652Z
UID:2177-1695168000-1695254399@faisability.crdev.gr
SUMMARY:Inventaire ciblé sur la migration d'oiseaux postnuptiale
DESCRIPTION:Le but de cette sortie naturaliste est de rechercher les sites d’escale migratoire pour les oiseaux migrateurs postnuptiaux
URL:https://faisability.crdev.gr/event/inventaire-cible-sur-la-migration-doiseaux-postnuptiale/
LOCATION:Choulex\, Switzerland
CATEGORIES:Suisse
END:VEVENT
BEGIN:VEVENT
DTSTART;VALUE=DATE:20230920
DTEND;VALUE=DATE:20230923
DTSTAMP:20260423T185346
CREATED:20230920T140903Z
LAST-MODIFIED:20230920T140903Z
UID:2190-1695168000-1695427199@faisability.crdev.gr
SUMMARY:Inventaires de terrains ciblés sur les reptiles et les amphibiens
DESCRIPTION:
URL:https://faisability.crdev.gr/event/inventaires-de-terrains-cibles-sur-les-reptiles-et-les-amphibiens/
LOCATION:Choulex\, Switzerland
CATEGORIES:Suisse
END:VEVENT
END:VCALENDAR