BEGIN:VCALENDAR
VERSION:2.0
PRODID:-//CERN ⎜ ❍ Futur Collisionneur Circulaire - ECPv6.2.8.2//NONSGML v1.0//EN
CALSCALE:GREGORIAN
METHOD:PUBLISH
X-ORIGINAL-URL:https://faisability.crdev.gr
X-WR-CALDESC:évènements pour CERN ⎜ ❍ Futur Collisionneur Circulaire
REFRESH-INTERVAL;VALUE=DURATION:PT1H
X-Robots-Tag:noindex
X-PUBLISHED-TTL:PT1H
BEGIN:VTIMEZONE
TZID:Europe/Paris
BEGIN:DAYLIGHT
TZOFFSETFROM:+0100
TZOFFSETTO:+0200
TZNAME:CEST
DTSTART:20240331T010000
END:DAYLIGHT
BEGIN:STANDARD
TZOFFSETFROM:+0200
TZOFFSETTO:+0100
TZNAME:CET
DTSTART:20241027T010000
END:STANDARD
END:VTIMEZONE
BEGIN:VEVENT
DTSTART;VALUE=DATE:20241202
DTEND;VALUE=DATE:20241206
DTSTAMP:20260423T001645
CREATED:20241107T091027Z
LAST-MODIFIED:20241205T153603Z
UID:2743-1733097600-1733443199@faisability.crdev.gr
SUMMARY:Analyse de la qualité des sols
DESCRIPTION:Une investigation pédologique sera menée dans l’emprise des sites de surface
URL:https://faisability.crdev.gr/event/analyse-de-la-qualite-des-sols/
LOCATION:Presinge & Choulex\, Nangy\, Etaux\, Cercier\, Groisy & Charvonnex\, Dingy-En-Vuache\, Challex\, Satigny\, Dardagny\, Ferney-Voltaire\, Prevessin-Moens\, Meyrin.
CATEGORIES:France,Suisse
END:VEVENT
END:VCALENDAR