BEGIN:VCALENDAR
VERSION:2.0
PRODID:-//CERN ⎜ ❍ Futur Collisionneur Circulaire - ECPv6.2.8.2//NONSGML v1.0//EN
CALSCALE:GREGORIAN
METHOD:PUBLISH
X-WR-CALNAME:CERN ⎜ ❍ Futur Collisionneur Circulaire
X-ORIGINAL-URL:https://faisability.crdev.gr
X-WR-CALDESC:évènements pour CERN ⎜ ❍ Futur Collisionneur Circulaire
REFRESH-INTERVAL;VALUE=DURATION:PT1H
X-Robots-Tag:noindex
X-PUBLISHED-TTL:PT1H
BEGIN:VTIMEZONE
TZID:Europe/Paris
BEGIN:DAYLIGHT
TZOFFSETFROM:+0100
TZOFFSETTO:+0200
TZNAME:CEST
DTSTART:20230326T010000
END:DAYLIGHT
BEGIN:STANDARD
TZOFFSETFROM:+0200
TZOFFSETTO:+0100
TZNAME:CET
DTSTART:20231029T010000
END:STANDARD
END:VTIMEZONE
BEGIN:VEVENT
DTSTART;VALUE=DATE:20231211
DTEND;VALUE=DATE:20231214
DTSTAMP:20260423T213453
CREATED:20231207T162815Z
LAST-MODIFIED:20231214T133658Z
UID:2319-1702252800-1702511999@faisability.crdev.gr
SUMMARY:Inventaire ciblé des sites de surface: oiseaux hivernants
DESCRIPTION:Le but de cette sortie naturaliste est de recenser les oiseaux hivernants
URL:https://faisability.crdev.gr/event/inventaire-cible-des-sites-de-surface-oiseaux-hivernants/
LOCATION:Presinge\, Choulex\, Nangy\, Etaux\, Charvonnex\, Cercier\, Marlioz\, Dingy-en-Vuache\, Challex\, Ferney-Voltaire
CATEGORIES:France,Suisse
END:VEVENT
BEGIN:VEVENT
DTSTART;VALUE=DATE:20231212
DTEND;VALUE=DATE:20231215
DTSTAMP:20260423T213453
CREATED:20231201T100018Z
LAST-MODIFIED:20231207T161105Z
UID:2307-1702339200-1702598399@faisability.crdev.gr
SUMMARY:Investigation pédologique
DESCRIPTION:
URL:https://faisability.crdev.gr/event/investigation-pedologique-13/
LOCATION:Allonzier-la-Caille\, Choisy
CATEGORIES:France
END:VEVENT
END:VCALENDAR