BEGIN:VCALENDAR
VERSION:2.0
PRODID:-//CERN ⎜ ❍ Futur Collisionneur Circulaire - ECPv6.2.8.2//NONSGML v1.0//EN
CALSCALE:GREGORIAN
METHOD:PUBLISH
X-WR-CALNAME:CERN ⎜ ❍ Futur Collisionneur Circulaire
X-ORIGINAL-URL:https://faisability.crdev.gr
X-WR-CALDESC:évènements pour CERN ⎜ ❍ Futur Collisionneur Circulaire
REFRESH-INTERVAL;VALUE=DURATION:PT1H
X-Robots-Tag:noindex
X-PUBLISHED-TTL:PT1H
BEGIN:VTIMEZONE
TZID:Europe/Paris
BEGIN:DAYLIGHT
TZOFFSETFROM:+0100
TZOFFSETTO:+0200
TZNAME:CEST
DTSTART:20230326T010000
END:DAYLIGHT
BEGIN:STANDARD
TZOFFSETFROM:+0200
TZOFFSETTO:+0100
TZNAME:CET
DTSTART:20231029T010000
END:STANDARD
END:VTIMEZONE
BEGIN:VEVENT
DTSTART;VALUE=DATE:20231128
DTEND;VALUE=DATE:20231129
DTSTAMP:20260423T213313
CREATED:20231117T094431Z
LAST-MODIFIED:20231123T135120Z
UID:2290-1701129600-1701215999@faisability.crdev.gr
SUMMARY:Investigation pédologique
DESCRIPTION:
URL:https://faisability.crdev.gr/event/investigation-pedologique-9/
LOCATION:Savigny\, Allonzier-la-Caille\, Choisy\, Amancy\, Arenthon\, Cornier\, Scientrier
CATEGORIES:France
END:VEVENT
BEGIN:VEVENT
DTSTART;VALUE=DATE:20231128
DTEND;VALUE=DATE:20231129
DTSTAMP:20260423T213313
CREATED:20231123T135959Z
LAST-MODIFIED:20231123T135959Z
UID:2296-1701129600-1701215999@faisability.crdev.gr
SUMMARY:Investigation pédologique
DESCRIPTION:
URL:https://faisability.crdev.gr/event/investigation-pedologique-11/
LOCATION:Eteaux
CATEGORIES:France
END:VEVENT
END:VCALENDAR