BEGIN:VCALENDAR
VERSION:2.0
PRODID:-//CERN ⎜ ❍ Futur Collisionneur Circulaire - ECPv6.2.8.2//NONSGML v1.0//EN
CALSCALE:GREGORIAN
METHOD:PUBLISH
X-WR-CALNAME:CERN ⎜ ❍ Futur Collisionneur Circulaire
X-ORIGINAL-URL:https://faisability.crdev.gr
X-WR-CALDESC:évènements pour CERN ⎜ ❍ Futur Collisionneur Circulaire
REFRESH-INTERVAL;VALUE=DURATION:PT1H
X-Robots-Tag:noindex
X-PUBLISHED-TTL:PT1H
BEGIN:VTIMEZONE
TZID:Europe/Paris
BEGIN:DAYLIGHT
TZOFFSETFROM:+0100
TZOFFSETTO:+0200
TZNAME:CEST
DTSTART:20230326T010000
END:DAYLIGHT
BEGIN:STANDARD
TZOFFSETFROM:+0200
TZOFFSETTO:+0100
TZNAME:CET
DTSTART:20231029T010000
END:STANDARD
END:VTIMEZONE
BEGIN:VEVENT
DTSTART;VALUE=DATE:20230918
DTEND;VALUE=DATE:20230919
DTSTAMP:20260424T020144
CREATED:20230918T144638Z
LAST-MODIFIED:20230918T144638Z
UID:2169-1694995200-1695081599@faisability.crdev.gr
SUMMARY:Ecoutes ultrasonores des chiroptères
DESCRIPTION:
URL:https://faisability.crdev.gr/event/ecoutes-ultrasonores-des-chiropteres/
LOCATION:Ferney-Voltaire\, Ferney-Voltaire\, Département Ain\, France
CATEGORIES:France
END:VEVENT
END:VCALENDAR