BEGIN:VCALENDAR
VERSION:2.0
PRODID:-//CERN ⎜ ❍ Futur Collisionneur Circulaire - ECPv6.2.8.2//NONSGML v1.0//EN
CALSCALE:GREGORIAN
METHOD:PUBLISH
X-WR-CALNAME:CERN ⎜ ❍ Futur Collisionneur Circulaire
X-ORIGINAL-URL:https://faisability.crdev.gr
X-WR-CALDESC:évènements pour CERN ⎜ ❍ Futur Collisionneur Circulaire
REFRESH-INTERVAL;VALUE=DURATION:PT1H
X-Robots-Tag:noindex
X-PUBLISHED-TTL:PT1H
BEGIN:VTIMEZONE
TZID:Europe/Paris
BEGIN:DAYLIGHT
TZOFFSETFROM:+0100
TZOFFSETTO:+0200
TZNAME:CEST
DTSTART:20230326T010000
END:DAYLIGHT
BEGIN:STANDARD
TZOFFSETFROM:+0200
TZOFFSETTO:+0100
TZNAME:CET
DTSTART:20231029T010000
END:STANDARD
END:VTIMEZONE
BEGIN:VEVENT
DTSTART;VALUE=DATE:20231031
DTEND;VALUE=DATE:20231102
DTSTAMP:20260423T213234
CREATED:20231026T130150Z
LAST-MODIFIED:20231026T130308Z
UID:2263-1698710400-1698883199@faisability.crdev.gr
SUMMARY:Investigation pédologique
DESCRIPTION:
URL:https://faisability.crdev.gr/event/investigation-pedologique/
LOCATION:Etaux\, Savigny\, Vulbens
CATEGORIES:France
END:VEVENT
BEGIN:VEVENT
DTSTART;VALUE=DATE:20231031
DTEND;VALUE=DATE:20231102
DTSTAMP:20260423T213234
CREATED:20231026T130707Z
LAST-MODIFIED:20231026T130707Z
UID:2267-1698710400-1698883199@faisability.crdev.gr
SUMMARY:Investigation pédologique
DESCRIPTION:
URL:https://faisability.crdev.gr/event/investigation-pedologique-3/
LOCATION:Choisy\, Allonzier-la-Caille\, Cuvat\, Département de la Haute-Savoie\, France
CATEGORIES:France
END:VEVENT
BEGIN:VEVENT
DTSTART;TZID=Europe/Paris:20231101T080000
DTEND;TZID=Europe/Paris:20231101T170000
DTSTAMP:20260423T213234
CREATED:20231026T125353Z
LAST-MODIFIED:20231026T125503Z
UID:2261-1698825600-1698858000@faisability.crdev.gr
SUMMARY:Prospection des sites de dépôt
DESCRIPTION:
URL:https://faisability.crdev.gr/event/prospection-des-sites-de-depot-4/
LOCATION:Nangy\, Département de la Haute-Savoie\, France
CATEGORIES:France
END:VEVENT
BEGIN:VEVENT
DTSTART;VALUE=DATE:20231106
DTEND;VALUE=DATE:20231111
DTSTAMP:20260423T213234
CREATED:20231102T152306Z
LAST-MODIFIED:20231102T152306Z
UID:2280-1699228800-1699660799@faisability.crdev.gr
SUMMARY:Prospection des sites de dépôt
DESCRIPTION:
URL:https://faisability.crdev.gr/event/prospection-des-sites-de-depot-5/
LOCATION:Nangy\, Département de la Haute-Savoie\, France
CATEGORIES:France
END:VEVENT
BEGIN:VEVENT
DTSTART;VALUE=DATE:20231107
DTEND;VALUE=DATE:20231110
DTSTAMP:20260423T213234
CREATED:20231102T151901Z
LAST-MODIFIED:20231102T151901Z
UID:2270-1699315200-1699574399@faisability.crdev.gr
SUMMARY:Investigation pédologique
DESCRIPTION:
URL:https://faisability.crdev.gr/event/investigation-pedologique-4/
LOCATION:Savigny
CATEGORIES:France
END:VEVENT
BEGIN:VEVENT
DTSTART;VALUE=DATE:20231107
DTEND;VALUE=DATE:20231110
DTSTAMP:20260423T213234
CREATED:20231102T152027Z
LAST-MODIFIED:20231102T152027Z
UID:2274-1699315200-1699574399@faisability.crdev.gr
SUMMARY:Investigation pédologique
DESCRIPTION:
URL:https://faisability.crdev.gr/event/investigation-pedologique-5/
LOCATION:Allonzier-la-Caille\, Choisy
CATEGORIES:France
END:VEVENT
BEGIN:VEVENT
DTSTART;VALUE=DATE:20231107
DTEND;VALUE=DATE:20231110
DTSTAMP:20260423T213234
CREATED:20231102T152130Z
LAST-MODIFIED:20231102T152130Z
UID:2277-1699315200-1699574399@faisability.crdev.gr
SUMMARY:Investigation pédologique
DESCRIPTION:
URL:https://faisability.crdev.gr/event/investigation-pedologique-6/
LOCATION:Amancy\, Arenthon\, Cornier\, Scientrier
CATEGORIES:France
END:VEVENT
BEGIN:VEVENT
DTSTART;VALUE=DATE:20231113
DTEND;VALUE=DATE:20231118
DTSTAMP:20260423T213234
CREATED:20231110T100032Z
LAST-MODIFIED:20231110T100032Z
UID:2288-1699833600-1700265599@faisability.crdev.gr
SUMMARY:Prospection des sites de dépôt
DESCRIPTION:
URL:https://faisability.crdev.gr/event/prospection-des-sites-de-depot-6/
LOCATION:Etaux\, Département de la Haute-Savoie\, France
CATEGORIES:France
END:VEVENT
BEGIN:VEVENT
DTSTART;VALUE=DATE:20231114
DTEND;VALUE=DATE:20231116
DTSTAMP:20260423T213234
CREATED:20231110T095716Z
LAST-MODIFIED:20231110T095716Z
UID:2283-1699920000-1700092799@faisability.crdev.gr
SUMMARY:Investigation pédologique
DESCRIPTION:
URL:https://faisability.crdev.gr/event/investigation-pedologique-7/
LOCATION:Savigny\, Allonzier-la-Caille\, Choisy\, Amancy\, Arenthon\, Cornier\, Scientrier
CATEGORIES:France
END:VEVENT
BEGIN:VEVENT
DTSTART;VALUE=DATE:20231114
DTEND;VALUE=DATE:20231116
DTSTAMP:20260423T213234
CREATED:20231110T095828Z
LAST-MODIFIED:20231110T095828Z
UID:2286-1699920000-1700092799@faisability.crdev.gr
SUMMARY:Investigation pédologique
DESCRIPTION:
URL:https://faisability.crdev.gr/event/investigation-pedologique-8/
LOCATION:Challex
CATEGORIES:France
END:VEVENT
BEGIN:VEVENT
DTSTART;VALUE=DATE:20231128
DTEND;VALUE=DATE:20231129
DTSTAMP:20260423T213234
CREATED:20231117T094431Z
LAST-MODIFIED:20231123T135120Z
UID:2290-1701129600-1701215999@faisability.crdev.gr
SUMMARY:Investigation pédologique
DESCRIPTION:
URL:https://faisability.crdev.gr/event/investigation-pedologique-9/
LOCATION:Savigny\, Allonzier-la-Caille\, Choisy\, Amancy\, Arenthon\, Cornier\, Scientrier
CATEGORIES:France
END:VEVENT
BEGIN:VEVENT
DTSTART;VALUE=DATE:20231128
DTEND;VALUE=DATE:20231129
DTSTAMP:20260423T213234
CREATED:20231123T135959Z
LAST-MODIFIED:20231123T135959Z
UID:2296-1701129600-1701215999@faisability.crdev.gr
SUMMARY:Investigation pédologique
DESCRIPTION:
URL:https://faisability.crdev.gr/event/investigation-pedologique-11/
LOCATION:Eteaux
CATEGORIES:France
END:VEVENT
END:VCALENDAR