BEGIN:VCALENDAR
VERSION:2.0
PRODID:-//CERN ⎜ ❍ Futur Collisionneur Circulaire - ECPv6.2.8.2//NONSGML v1.0//EN
CALSCALE:GREGORIAN
METHOD:PUBLISH
X-ORIGINAL-URL:https://faisability.crdev.gr
X-WR-CALDESC:évènements pour CERN ⎜ ❍ Futur Collisionneur Circulaire
REFRESH-INTERVAL;VALUE=DURATION:PT1H
X-Robots-Tag:noindex
X-PUBLISHED-TTL:PT1H
BEGIN:VTIMEZONE
TZID:Europe/Paris
BEGIN:DAYLIGHT
TZOFFSETFROM:+0100
TZOFFSETTO:+0200
TZNAME:CEST
DTSTART:20230326T010000
END:DAYLIGHT
BEGIN:STANDARD
TZOFFSETFROM:+0200
TZOFFSETTO:+0100
TZNAME:CET
DTSTART:20231029T010000
END:STANDARD
END:VTIMEZONE
BEGIN:VEVENT
DTSTART;VALUE=DATE:20231002
DTEND;VALUE=DATE:20231007
DTSTAMP:20260423T230416
CREATED:20231003T080814Z
LAST-MODIFIED:20231003T081546Z
UID:2227-1696204800-1696636799@faisability.crdev.gr
SUMMARY:Investigations des sites de surface
DESCRIPTION:Indice de biodiversité potentielle (IBP)\nL’IBP est un outil qui permet de définir la biodiversité dans les zones forestières. Cet indicateur définit la capacité d’accueil d’une forêt pour la biodiversité (plantes\, oiseaux\, insectes…). Ces recensements auront pour but de définir les dendromicrohabitats des zones forestières présentes sur les sites de surface du projet. Les recenseurs effectueront un trajet planifié au préalable à travers la forêt et y noteront les différentes structures favorables à la biodiversité\, comme des cavités\, espaces entre les écorces\, exsudats\, excroissances\, etc.). Notre méthodologie s’appuie essentiellement sur le “Guide de poche des dendromicrohabitats” rédigé par le WSL. Ce type de recensement permet d’estimer indirectement la biodiversité en prenant en compte les facteurs responsables de la diversité interne des peuplements forestiers. \n 
URL:https://faisability.crdev.gr/event/investigations-des-sites-de-surface-7/
LOCATION:Charvonnex\, Cercier-Marlioz\, Etaux
CATEGORIES:France
END:VEVENT
BEGIN:VEVENT
DTSTART;VALUE=DATE:20231002
DTEND;VALUE=DATE:20231007
DTSTAMP:20260423T230416
CREATED:20230920T142651Z
LAST-MODIFIED:20231002T154521Z
UID:2206-1696204800-1696636799@faisability.crdev.gr
SUMMARY:Inventaires de terrains ciblés sur les reptiles et les amphibiens
DESCRIPTION:
URL:https://faisability.crdev.gr/event/inventaires-de-terrains-cibles-sur-les-reptiles-et-les-amphibiens-8/
LOCATION:Pougny\, Farges\, Vulbens\, Arenthon\, Scientrier\, Challex\, Dardagny
CATEGORIES:France,Suisse
END:VEVENT
BEGIN:VEVENT
DTSTART;VALUE=DATE:20231002
DTEND;VALUE=DATE:20231007
DTSTAMP:20260423T230416
CREATED:20231002T154713Z
LAST-MODIFIED:20231002T154713Z
UID:2205-1696204800-1696636799@faisability.crdev.gr
SUMMARY:Inventaires de terrains ciblés sur les reptiles et les amphibiens
DESCRIPTION:
URL:https://faisability.crdev.gr/event/inventaires-de-terrains-cibles-sur-les-reptiles-et-les-amphibiens-6/
LOCATION:Dingy-En-Vuache\,\, Challex\, Ferney-Voltaire
CATEGORIES:France
END:VEVENT
BEGIN:VEVENT
DTSTART;VALUE=DATE:20231005
DTEND;VALUE=DATE:20231006
DTSTAMP:20260423T230416
CREATED:20230929T123359Z
LAST-MODIFIED:20230929T123438Z
UID:2217-1696464000-1696550399@faisability.crdev.gr
SUMMARY:Investigation pédologique des lignes sismiques
DESCRIPTION:
URL:https://faisability.crdev.gr/event/investigation-pedologique-des-lignes-sismiques/
LOCATION:Satigny\, Challex\, Dingy
CATEGORIES:France,Suisse
END:VEVENT
BEGIN:VEVENT
DTSTART;VALUE=DATE:20231005
DTEND;VALUE=DATE:20231010
DTSTAMP:20260423T230416
CREATED:20230929T122435Z
LAST-MODIFIED:20230929T122435Z
UID:2212-1696464000-1696895999@faisability.crdev.gr
SUMMARY:Etude territoriale des sites de surface
DESCRIPTION:
URL:https://faisability.crdev.gr/event/etude-territoriale-des-sites-de-surface/
LOCATION:Dingy
CATEGORIES:France
END:VEVENT
BEGIN:VEVENT
DTSTART;VALUE=DATE:20231009
DTEND;VALUE=DATE:20231011
DTSTAMP:20260423T230416
CREATED:20231005T134858Z
LAST-MODIFIED:20231005T134858Z
UID:2242-1696809600-1696982399@faisability.crdev.gr
SUMMARY:Inventaires de terrains ciblés sur les reptiles et les amphibiens
DESCRIPTION:
URL:https://faisability.crdev.gr/event/inventaires-de-terrains-cibles-sur-les-reptiles-et-les-amphibiens-5/
LOCATION:Pougny\, Farges\, Vulbens\, Arenthon\, Scientrier\, Challex\, Dardagny
CATEGORIES:France,Suisse
END:VEVENT
BEGIN:VEVENT
DTSTART;VALUE=DATE:20231009
DTEND;VALUE=DATE:20231014
DTSTAMP:20260423T230416
CREATED:20231003T081045Z
LAST-MODIFIED:20231003T081045Z
UID:2229-1696809600-1697241599@faisability.crdev.gr
SUMMARY:Investigations des sites de surface
DESCRIPTION:Indice de biodiversité potentielle (IBP)\nL’IBP est un outil qui permet de définir la biodiversité dans les zones forestières. Cet indicateur définit la capacité d’accueil d’une forêt pour la biodiversité (plantes\, oiseaux\, insectes…). Ces recensements auront pour but de définir les dendromicrohabitats des zones forestières présentes sur les sites de surface du projet. Les recenseurs effectueront un trajet planifié au préalable à travers la forêt et y noteront les différentes structures favorables à la biodiversité\, comme des cavités\, espaces entre les écorces\, exsudats\, excroissances\, etc.). Notre méthodologie s’appuie essentiellement sur le “Guide de poche des dendromicrohabitats” rédigé par le WSL. Ce type de recensement permet d’estimer indirectement la biodiversité en prenant en compte les facteurs responsables de la diversité interne des peuplements forestiers. \n 
URL:https://faisability.crdev.gr/event/investigations-des-sites-de-surface-8/
LOCATION:Challex\, Ferney-Voltaire
CATEGORIES:France
END:VEVENT
BEGIN:VEVENT
DTSTART;VALUE=DATE:20231010
DTEND;VALUE=DATE:20231011
DTSTAMP:20260423T230416
CREATED:20231005T133705Z
LAST-MODIFIED:20231005T133705Z
UID:2235-1696896000-1696982399@faisability.crdev.gr
SUMMARY:Investigation pédologique des sites de surface et des lignes sismiques
DESCRIPTION:
URL:https://faisability.crdev.gr/event/investigation-pedologique-des-sites-de-surface-et-des-lignes-sismiques/
LOCATION:Etaux\, Savigny\, Vulbens
CATEGORIES:France
END:VEVENT
BEGIN:VEVENT
DTSTART;VALUE=DATE:20231011
DTEND;VALUE=DATE:20231012
DTSTAMP:20260423T230416
CREATED:20231009T142247Z
LAST-MODIFIED:20231009T142247Z
UID:2245-1696982400-1697068799@faisability.crdev.gr
SUMMARY:Prospection des sites de dépôt
DESCRIPTION:
URL:https://faisability.crdev.gr/event/prospection-des-sites-de-depot/
LOCATION:Nangy\, Département de la Haute-Savoie\, France
CATEGORIES:France
END:VEVENT
BEGIN:VEVENT
DTSTART;VALUE=DATE:20231012
DTEND;VALUE=DATE:20231013
DTSTAMP:20260423T230416
CREATED:20231005T134024Z
LAST-MODIFIED:20231005T134127Z
UID:2238-1697068800-1697155199@faisability.crdev.gr
SUMMARY:Investigation pédologique des sites de surface
DESCRIPTION:
URL:https://faisability.crdev.gr/event/investigation-pedologique-des-sites-de-surface/
LOCATION:Etaux\, Département de la Haute-Savoie\, France
CATEGORIES:France
END:VEVENT
BEGIN:VEVENT
DTSTART;VALUE=DATE:20231013
DTEND;VALUE=DATE:20231017
DTSTAMP:20260423T230416
CREATED:20231002T155521Z
LAST-MODIFIED:20231002T155521Z
UID:2223-1697155200-1697500799@faisability.crdev.gr
SUMMARY:Etude territoriale des sites de surface
DESCRIPTION:
URL:https://faisability.crdev.gr/event/etude-territoriale-des-sites-de-surface-3/
LOCATION:Cercier
CATEGORIES:France
END:VEVENT
BEGIN:VEVENT
DTSTART;VALUE=DATE:20231016
DTEND;VALUE=DATE:20231018
DTSTAMP:20260423T230416
CREATED:20231012T101922Z
LAST-MODIFIED:20231012T101922Z
UID:2252-1697414400-1697587199@faisability.crdev.gr
SUMMARY:Investigation des sites de surface - Etude paysagère
DESCRIPTION:
URL:https://faisability.crdev.gr/event/investigation-des-sites-de-surface-etude-paysagere/
LOCATION:Charvonnex\, Charvonnex\, Département de la Haute-Savoie\, France
CATEGORIES:France
END:VEVENT
BEGIN:VEVENT
DTSTART;VALUE=DATE:20231016
DTEND;VALUE=DATE:20231021
DTSTAMP:20260423T230416
CREATED:20231003T081251Z
LAST-MODIFIED:20231003T081251Z
UID:2232-1697414400-1697846399@faisability.crdev.gr
SUMMARY:Investigations des sites de surface
DESCRIPTION:Indice de biodiversité potentielle (IBP)\nL’IBP est un outil qui permet de définir la biodiversité dans les zones forestières. Cet indicateur définit la capacité d’accueil d’une forêt pour la biodiversité (plantes\, oiseaux\, insectes…). Ces recensements auront pour but de définir les dendromicrohabitats des zones forestières présentes sur les sites de surface du projet. Les recenseurs effectueront un trajet planifié au préalable à travers la forêt et y noteront les différentes structures favorables à la biodiversité\, comme des cavités\, espaces entre les écorces\, exsudats\, excroissances\, etc.). Notre méthodologie s’appuie essentiellement sur le “Guide de poche des dendromicrohabitats” rédigé par le WSL. Ce type de recensement permet d’estimer indirectement la biodiversité en prenant en compte les facteurs responsables de la diversité interne des peuplements forestiers. \n 
URL:https://faisability.crdev.gr/event/investigations-des-sites-de-surface-9/
LOCATION:Etaux\, Département de la Haute-Savoie\, France
CATEGORIES:France
END:VEVENT
BEGIN:VEVENT
DTSTART;VALUE=DATE:20231018
DTEND;VALUE=DATE:20231019
DTSTAMP:20260423T230416
CREATED:20231012T094539Z
LAST-MODIFIED:20231012T094539Z
UID:2250-1697587200-1697673599@faisability.crdev.gr
SUMMARY:Prospection des sites de dépôt
DESCRIPTION:
URL:https://faisability.crdev.gr/event/prospection-des-sites-de-depot-2/
LOCATION:Nangy\, Département de la Haute-Savoie\, France
CATEGORIES:France
END:VEVENT
BEGIN:VEVENT
DTSTART;VALUE=DATE:20231018
DTEND;VALUE=DATE:20231020
DTSTAMP:20260423T230416
CREATED:20231011T115134Z
LAST-MODIFIED:20231011T115134Z
UID:2247-1697587200-1697759999@faisability.crdev.gr
SUMMARY:Investigation pédologique des sites de surface
DESCRIPTION:
URL:https://faisability.crdev.gr/event/investigation-pedologique-des-sites-de-surface-2/
LOCATION:Etaux\, Savigny\, Vulbens
CATEGORIES:France
END:VEVENT
BEGIN:VEVENT
DTSTART;TZID=Europe/Paris:20231023T080000
DTEND;TZID=Europe/Paris:20231025T170000
DTSTAMP:20260423T230416
CREATED:20231019T101631Z
LAST-MODIFIED:20231019T101631Z
UID:2257-1698048000-1698253200@faisability.crdev.gr
SUMMARY:Investigation pédologique du site de surface
DESCRIPTION:
URL:https://faisability.crdev.gr/event/investigation-pedologique-du-site-de-surface/
CATEGORIES:France
END:VEVENT
BEGIN:VEVENT
DTSTART;TZID=Europe/Paris:20231024T080000
DTEND;TZID=Europe/Paris:20231025T170000
DTSTAMP:20260423T230416
CREATED:20231019T102152Z
LAST-MODIFIED:20231019T102152Z
UID:2259-1698134400-1698253200@faisability.crdev.gr
SUMMARY:Investigation pédologique du site d'étude
DESCRIPTION:
URL:https://faisability.crdev.gr/event/investigation-pedologique-du-site-detude/
LOCATION:Etaux\, Savigny\, Vulbens
CATEGORIES:France
END:VEVENT
BEGIN:VEVENT
DTSTART;TZID=Europe/Paris:20231025T080000
DTEND;TZID=Europe/Paris:20231026T170000
DTSTAMP:20260423T230416
CREATED:20231019T101333Z
LAST-MODIFIED:20231019T101333Z
UID:2255-1698220800-1698339600@faisability.crdev.gr
SUMMARY:Prospection des sites de dépôt
DESCRIPTION:
URL:https://faisability.crdev.gr/event/prospection-des-sites-de-depot-3/
LOCATION:Nangy\, Département de la Haute-Savoie\, France
CATEGORIES:France
END:VEVENT
BEGIN:VEVENT
DTSTART;VALUE=DATE:20231031
DTEND;VALUE=DATE:20231102
DTSTAMP:20260423T230416
CREATED:20231026T130150Z
LAST-MODIFIED:20231026T130308Z
UID:2263-1698710400-1698883199@faisability.crdev.gr
SUMMARY:Investigation pédologique
DESCRIPTION:
URL:https://faisability.crdev.gr/event/investigation-pedologique/
LOCATION:Etaux\, Savigny\, Vulbens
CATEGORIES:France
END:VEVENT
BEGIN:VEVENT
DTSTART;VALUE=DATE:20231031
DTEND;VALUE=DATE:20231102
DTSTAMP:20260423T230416
CREATED:20231026T130707Z
LAST-MODIFIED:20231026T130707Z
UID:2267-1698710400-1698883199@faisability.crdev.gr
SUMMARY:Investigation pédologique
DESCRIPTION:
URL:https://faisability.crdev.gr/event/investigation-pedologique-3/
LOCATION:Choisy\, Allonzier-la-Caille\, Cuvat\, Département de la Haute-Savoie\, France
CATEGORIES:France
END:VEVENT
END:VCALENDAR