BEGIN:VCALENDAR
VERSION:2.0
PRODID:-//CERN ⎜ ❍ Futur Collisionneur Circulaire - ECPv6.2.8.2//NONSGML v1.0//EN
CALSCALE:GREGORIAN
METHOD:PUBLISH
X-ORIGINAL-URL:https://faisability.crdev.gr
X-WR-CALDESC:évènements pour CERN ⎜ ❍ Futur Collisionneur Circulaire
REFRESH-INTERVAL;VALUE=DURATION:PT1H
X-Robots-Tag:noindex
X-PUBLISHED-TTL:PT1H
BEGIN:VTIMEZONE
TZID:Europe/Paris
BEGIN:DAYLIGHT
TZOFFSETFROM:+0100
TZOFFSETTO:+0200
TZNAME:CEST
DTSTART:20230326T010000
END:DAYLIGHT
BEGIN:STANDARD
TZOFFSETFROM:+0200
TZOFFSETTO:+0100
TZNAME:CET
DTSTART:20231029T010000
END:STANDARD
END:VTIMEZONE
BEGIN:VEVENT
DTSTART;TZID=Europe/Paris:20230801T080000
DTEND;TZID=Europe/Paris:20230804T170000
DTSTAMP:20260424T015950
CREATED:20230725T101143Z
LAST-MODIFIED:20230728T072907Z
UID:2079-1690876800-1691168400@faisability.crdev.gr
SUMMARY:Investigations des sites de surface et des sites de sondages
DESCRIPTION:Relevés forestiers
URL:https://faisability.crdev.gr/event/investigations-des-sites-de-surface-et-des-sites-de-sondages-7/
LOCATION:Ferney-Voltaire\, Prevessin-Moens\, Meyrin\, Challex
CATEGORIES:France
END:VEVENT
BEGIN:VEVENT
DTSTART;TZID=Europe/Paris:20230801T080000
DTEND;TZID=Europe/Paris:20230804T170000
DTSTAMP:20260424T015950
CREATED:20230728T073053Z
LAST-MODIFIED:20230728T073112Z
UID:2087-1690876800-1691168400@faisability.crdev.gr
SUMMARY:Investigations des sites de surface et des sites de sondages
DESCRIPTION:Relevés forestiers
URL:https://faisability.crdev.gr/event/investigations-des-sites-de-surface-et-des-sites-de-sondages-8/
LOCATION:Challex
CATEGORIES:France
END:VEVENT
BEGIN:VEVENT
DTSTART;TZID=Europe/Paris:20230801T080000
DTEND;TZID=Europe/Paris:20230908T170000
DTSTAMP:20260424T015950
CREATED:20230725T100652Z
LAST-MODIFIED:20230725T100652Z
UID:2077-1690876800-1694192400@faisability.crdev.gr
SUMMARY:Investigations des sites de surface et des sites de sondages
DESCRIPTION:Ecoutes ultrasonores des chauve-souris
URL:https://faisability.crdev.gr/event/investigations-des-sites-de-surface-et-des-sites-de-sondages-6/
LOCATION:Etaux\, Département de la Haute-Savoie\, France
CATEGORIES:France
END:VEVENT
BEGIN:VEVENT
DTSTART;TZID=Europe/Paris:20230803T080000
DTEND;TZID=Europe/Paris:20230804T170000
DTSTAMP:20260424T015950
CREATED:20230725T100129Z
LAST-MODIFIED:20230804T081728Z
UID:2070-1691049600-1691168400@faisability.crdev.gr
SUMMARY:Investigations des sites de surface et des sites de sondages
DESCRIPTION:Relevés paysagers et patrimoine bâti \n \n 
URL:https://faisability.crdev.gr/event/investigations-des-sites-de-surface-et-des-sites-de-sondages-4/
LOCATION:Nangy\, Département de la Haute-Savoie\, France
CATEGORIES:France
END:VEVENT
BEGIN:VEVENT
DTSTART;TZID=Europe/Paris:20230804T080000
DTEND;TZID=Europe/Paris:20230804T170000
DTSTAMP:20260424T015950
CREATED:20230804T082712Z
LAST-MODIFIED:20230804T082712Z
UID:2103-1691136000-1691168400@faisability.crdev.gr
SUMMARY:Investigations des sites de surface et des sites de sondages
DESCRIPTION:Relevés forestiers
URL:https://faisability.crdev.gr/event/investigations-des-sites-de-surface-et-des-sites-de-sondages-14/
LOCATION:Cercier & Marlioz\, Cercier & Marlioz\, Département de la Haute-Savoie\, France
CATEGORIES:France
END:VEVENT
BEGIN:VEVENT
DTSTART;TZID=Europe/Paris:20230807T080000
DTEND;TZID=Europe/Paris:20230811T170000
DTSTAMP:20260424T015950
CREATED:20230728T073220Z
LAST-MODIFIED:20230728T073220Z
UID:2090-1691395200-1691773200@faisability.crdev.gr
SUMMARY:Investigations des sites de surface et des sites de sondages
DESCRIPTION:
URL:https://faisability.crdev.gr/event/investigations-des-sites-de-surface-et-des-sites-de-sondages-9/
LOCATION:Dingy-en-Vuache
CATEGORIES:France
END:VEVENT
BEGIN:VEVENT
DTSTART;TZID=Europe/Paris:20230807T080000
DTEND;TZID=Europe/Paris:20230811T170000
DTSTAMP:20260424T015950
CREATED:20230804T082605Z
LAST-MODIFIED:20230804T082605Z
UID:2101-1691395200-1691773200@faisability.crdev.gr
SUMMARY:Investigations des sites de surface et des sites de sondages
DESCRIPTION:Relevés forestiers
URL:https://faisability.crdev.gr/event/investigations-des-sites-de-surface-et-des-sites-de-sondages-13/
LOCATION:Charvonnex\, Charvonnex\, Département de la Haute-Savoie\, France
CATEGORIES:France
END:VEVENT
BEGIN:VEVENT
DTSTART;VALUE=DATE:20230810
DTEND;VALUE=DATE:20230811
DTSTAMP:20260424T015950
CREATED:20230809T140527Z
LAST-MODIFIED:20230809T140819Z
UID:2109-1691625600-1691711999@faisability.crdev.gr
SUMMARY:Investigations des sites de surface et des sites de sondages
DESCRIPTION:Relevé du paysage et du patrimoine bâti
URL:https://faisability.crdev.gr/event/investigations-des-sites-de-surface-et-des-sites-de-sondages-15/
LOCATION:Ferney-Voltaire\, Ferney-Voltaire\, Département Ain\, France
CATEGORIES:France
END:VEVENT
BEGIN:VEVENT
DTSTART;TZID=Europe/Paris:20230810T080000
DTEND;TZID=Europe/Paris:20230811T170000
DTSTAMP:20260424T015950
CREATED:20230804T081907Z
LAST-MODIFIED:20230804T081907Z
UID:2095-1691654400-1691773200@faisability.crdev.gr
SUMMARY:Investigations des sites de surface et des sites de sondages
DESCRIPTION:Relevés paysagers et patrimoine bâti
URL:https://faisability.crdev.gr/event/investigations-des-sites-de-surface-et-des-sites-de-sondages-10/
LOCATION:Cercier & Marlioz\, Cercier & Marlioz\, Département de la Haute-Savoie\, France
CATEGORIES:France
END:VEVENT
BEGIN:VEVENT
DTSTART;VALUE=DATE:20230814
DTEND;VALUE=DATE:20230815
DTSTAMP:20260424T015950
CREATED:20230809T140811Z
LAST-MODIFIED:20230809T140811Z
UID:2111-1691971200-1692057599@faisability.crdev.gr
SUMMARY:Investigations des sites de surface et des sites de sondages
DESCRIPTION:Relevés du paysage et du patrimoine bâti
URL:https://faisability.crdev.gr/event/investigations-des-sites-de-surface-et-des-sites-de-sondages-16/
CATEGORIES:France
END:VEVENT
BEGIN:VEVENT
DTSTART;TZID=Europe/Paris:20230814T080000
DTEND;TZID=Europe/Paris:20230818T170000
DTSTAMP:20260424T015950
CREATED:20230809T153339Z
LAST-MODIFIED:20230809T153339Z
UID:2115-1692000000-1692378000@faisability.crdev.gr
SUMMARY:Investigations des sites de surface et des sites de sondages
DESCRIPTION:Relevés naturalistes ciblés sur les insectes \nLe travail des naturalistes et des intervenants de la société d’Ecotec\, mandatée par la CERN\, consiste à étudier les différents aspects environnementaux sur le terrain\, en complément des informations fournies par la bibliographie. Pour ce faire\, les experts disposent d’un ensemble d’équipements adaptés à leurs besoins\, ce qui leur permet d’observer des espèces afin de les identifier. Par exemple\, pour les observations ornithologiques\, une paire de jumelles ou un télescope accompagné d’une tablette graphique sont nécessaires pour enregistrer toutes les observations faites sur le terrain. Certains domaines biologiques requièrent une technologie plus avancée\, comme les chauves-souris\, qui sont surveillées à l’aide d’enregistreurs à ultrasons statiques ou dynamiques. Ces enregistrements sont ensuite analysés par un logiciel pour identifier les espèces entendues et étudier leur activité. Les inventaires de terrain réalisés permettent de recenser le plus exhaustivement possible les espèces observées afin de mettre en évidence les enjeux écologiques pouvant exister dans les zones d’étude. Le niveau d’importance des espèces est directement lié à leur statut patrimonial et/ou réglementaire. Ce niveau d’enjeux permet de prendre les mesures de réduction et d’évitement appropriées\, afin que l’impact du projet soit limité dans le temps et dans l’espace.
URL:https://faisability.crdev.gr/event/investigations-des-sites-de-surface-et-des-sites-de-sondages-18/
LOCATION:Pougny\, Challex\, Dardagny
CATEGORIES:France
END:VEVENT
BEGIN:VEVENT
DTSTART;VALUE=DATE:20230818
DTEND;VALUE=DATE:20230819
DTSTAMP:20260424T015950
CREATED:20230815T124532Z
LAST-MODIFIED:20230818T085248Z
UID:2130-1692316800-1692403199@faisability.crdev.gr
SUMMARY:Investigations des sites de surface et des sites de sondages
DESCRIPTION:Inventaires paysagers et patrimoine bâti \n 
URL:https://faisability.crdev.gr/event/investigations-des-sites-de-surface-et-des-sites-de-sondages-22/
LOCATION:Dingy
CATEGORIES:France
END:VEVENT
BEGIN:VEVENT
DTSTART;TZID=Europe/Paris:20230821T080000
DTEND;TZID=Europe/Paris:20230825T170000
DTSTAMP:20260424T015950
CREATED:20230809T153811Z
LAST-MODIFIED:20230809T153811Z
UID:2119-1692604800-1692982800@faisability.crdev.gr
SUMMARY:Investigations des sites de surface et des sites de sondages
DESCRIPTION:Relevés naturalistes ciblés sur les insectes \nLe travail des naturalistes et des intervenants de la société d’Ecotec\, mandatée par la CERN\, consiste à étudier les différents aspects environnementaux sur le terrain\, en complément des informations fournies par la bibliographie. Pour ce faire\, les experts disposent d’un ensemble d’équipements adaptés à leurs besoins\, ce qui leur permet d’observer des espèces afin de les identifier. Par exemple\, pour les observations ornithologiques\, une paire de jumelles ou un télescope accompagné d’une tablette graphique sont nécessaires pour enregistrer toutes les observations faites sur le terrain. Certains domaines biologiques requièrent une technologie plus avancée\, comme les chauves-souris\, qui sont surveillées à l’aide d’enregistreurs à ultrasons statiques ou dynamiques. Ces enregistrements sont ensuite analysés par un logiciel pour identifier les espèces entendues et étudier leur activité. Les inventaires de terrain réalisés permettent de recenser le plus exhaustivement possible les espèces observées afin de mettre en évidence les enjeux écologiques pouvant exister dans les zones d’étude. Le niveau d’importance des espèces est directement lié à leur statut patrimonial et/ou réglementaire. Ce niveau d’enjeux permet de prendre les mesures de réduction et d’évitement appropriées\, afin que l’impact du projet soit limité dans le temps et dans l’espace.
URL:https://faisability.crdev.gr/event/investigations-des-sites-de-surface-et-des-sites-de-sondages-20/
LOCATION:Charvonnex\, Charvonnex\, Département de la Haute-Savoie\, France
CATEGORIES:France
END:VEVENT
BEGIN:VEVENT
DTSTART;VALUE=DATE:20230822
DTEND;VALUE=DATE:20230823
DTSTAMP:20260424T015950
CREATED:20230815T124659Z
LAST-MODIFIED:20230815T124659Z
UID:2133-1692662400-1692748799@faisability.crdev.gr
SUMMARY:Investigations des sites de surface et des sites de sondages
DESCRIPTION:Inventaires paysagers et patrimoine bâti \n 
URL:https://faisability.crdev.gr/event/investigations-des-sites-de-surface-et-des-sites-de-sondages-23/
LOCATION:Dingy
CATEGORIES:France
END:VEVENT
BEGIN:VEVENT
DTSTART;VALUE=DATE:20230823
DTEND;VALUE=DATE:20230824
DTSTAMP:20260424T015950
CREATED:20230818T085011Z
LAST-MODIFIED:20230818T085011Z
UID:2136-1692748800-1692835199@faisability.crdev.gr
SUMMARY:Investigations des sites de surface et des sites de sondages
DESCRIPTION:Inventaires paysagers et patrimoine bâti \n 
URL:https://faisability.crdev.gr/event/investigations-des-sites-de-surface-et-des-sites-de-sondages-24/
LOCATION:Cercier & Marlioz\, Cercier & Marlioz\, Département de la Haute-Savoie\, France
CATEGORIES:France
END:VEVENT
BEGIN:VEVENT
DTSTART;VALUE=DATE:20230825
DTEND;VALUE=DATE:20230826
DTSTAMP:20260424T015950
CREATED:20230818T085120Z
LAST-MODIFIED:20230818T085120Z
UID:2138-1692921600-1693007999@faisability.crdev.gr
SUMMARY:Investigations des sites de surface et des sites de sondages
DESCRIPTION:Inventaires paysagers et patrimoine bâti \n \n 
URL:https://faisability.crdev.gr/event/investigations-des-sites-de-surface-et-des-sites-de-sondages-25/
LOCATION:Cercier & Marlioz\, Cercier & Marlioz\, Département de la Haute-Savoie\, France
CATEGORIES:France
END:VEVENT
BEGIN:VEVENT
DTSTART;TZID=Europe/Paris:20230828T080000
DTEND;TZID=Europe/Paris:20230901T170000
DTSTAMP:20260424T015950
CREATED:20230824T071915Z
LAST-MODIFIED:20230824T072729Z
UID:2145-1693209600-1693587600@faisability.crdev.gr
SUMMARY:Investigations des sites de surface et des sites de sondages
DESCRIPTION:Relevés naturalistes ciblés sur les insectes \nLe travail des naturalistes et des intervenants de la société d’Ecotec\, mandatée par la CERN\, consiste à étudier les différents aspects environnementaux sur le terrain\, en complément des informations fournies par la bibliographie. Pour ce faire\, les experts disposent d’un ensemble d’équipements adaptés à leurs besoins\, ce qui leur permet d’observer des espèces afin de les identifier. Par exemple\, pour les observations ornithologiques\, une paire de jumelles ou un télescope accompagné d’une tablette graphique sont nécessaires pour enregistrer toutes les observations faites sur le terrain. Certains domaines biologiques requièrent une technologie plus avancée\, comme les chauves-souris\, qui sont surveillées à l’aide d’enregistreurs à ultrasons statiques ou dynamiques. Ces enregistrements sont ensuite analysés par un logiciel pour identifier les espèces entendues et étudier leur activité. Les inventaires de terrain réalisés permettent de recenser le plus exhaustivement possible les espèces observées afin de mettre en évidence les enjeux écologiques pouvant exister dans les zones d’étude. Le niveau d’importance des espèces est directement lié à leur statut patrimonial et/ou réglementaire. Ce niveau d’enjeux permet de prendre les mesures de réduction et d’évitement appropriées\, afin que l’impact du projet soit limité dans le temps et dans l’espace.
URL:https://faisability.crdev.gr/event/investigations-des-sites-de-surface-et-des-sites-de-sondages-26/
LOCATION:Pougny\, Challex\, Dardagny
CATEGORIES:France,Suisse
END:VEVENT
BEGIN:VEVENT
DTSTART;TZID=Europe/Paris:20230829T080000
DTEND;TZID=Europe/Paris:20230901T170000
DTSTAMP:20260424T015950
CREATED:20230829T145811Z
LAST-MODIFIED:20230829T145811Z
UID:2154-1693296000-1693587600@faisability.crdev.gr
SUMMARY:Bidders visit
DESCRIPTION:
URL:https://faisability.crdev.gr/event/bidders-visit/
CATEGORIES:France,Suisse
END:VEVENT
END:VCALENDAR