BEGIN:VCALENDAR
VERSION:2.0
PRODID:-//CERN ⎜ ❍ Futur Collisionneur Circulaire - ECPv6.2.8.2//NONSGML v1.0//EN
CALSCALE:GREGORIAN
METHOD:PUBLISH
X-ORIGINAL-URL:https://faisability.crdev.gr
X-WR-CALDESC:évènements pour CERN ⎜ ❍ Futur Collisionneur Circulaire
REFRESH-INTERVAL;VALUE=DURATION:PT1H
X-Robots-Tag:noindex
X-PUBLISHED-TTL:PT1H
BEGIN:VTIMEZONE
TZID:Europe/Paris
BEGIN:DAYLIGHT
TZOFFSETFROM:+0100
TZOFFSETTO:+0200
TZNAME:CEST
DTSTART:20230326T010000
END:DAYLIGHT
BEGIN:STANDARD
TZOFFSETFROM:+0200
TZOFFSETTO:+0100
TZNAME:CET
DTSTART:20231029T010000
END:STANDARD
END:VTIMEZONE
BEGIN:VEVENT
DTSTART;TZID=Europe/Paris:20230529T080000
DTEND;TZID=Europe/Paris:20230602T170000
DTSTAMP:20260424T044450
CREATED:20230531T142950Z
LAST-MODIFIED:20230531T142950Z
UID:1929-1685347200-1685725200@faisability.crdev.gr
SUMMARY:Investigations des sites de surface\, des BoreHoles et des seismic lines
DESCRIPTION:Inventaires de terrains ciblés sur les oiseaux\, les insectes et les mamifères.
URL:https://faisability.crdev.gr/event/investigations-des-sites-de-surface-des-boreholes-et-des-seismic-lines-8/
LOCATION:Ferney Voltaire\, Dingy sur Vuaches\, Cercier & Marlioz\, Satigny\, Choisy\, France
CATEGORIES:France,Suisse
END:VEVENT
BEGIN:VEVENT
DTSTART;TZID=Europe/Paris:20230529T080000
DTEND;TZID=Europe/Paris:20230602T170000
DTSTAMP:20260424T044450
CREATED:20230531T150609Z
LAST-MODIFIED:20230531T150609Z
UID:1944-1685347200-1685725200@faisability.crdev.gr
SUMMARY:Investigations des sites de surface\, des BoreHoles et des seismic lines
DESCRIPTION:Inventaires de terrains ciblés sur les chauves souris
URL:https://faisability.crdev.gr/event/investigations-des-sites-de-surface-des-boreholes-et-des-seismic-lines-14/
LOCATION:Choulex\, Nangy\, France
CATEGORIES:France
END:VEVENT
BEGIN:VEVENT
DTSTART;TZID=Europe/Paris:20230605T080000
DTEND;TZID=Europe/Paris:20230609T170000
DTSTAMP:20260424T044450
CREATED:20230602T092427Z
LAST-MODIFIED:20230602T092427Z
UID:1953-1685952000-1686330000@faisability.crdev.gr
SUMMARY:Inventaires de terrains ciblés sur les oiseaux\, les insectes et les mammifères
DESCRIPTION:Investigations des sites de surface\, des BoreHoles et des seismic lines
URL:https://faisability.crdev.gr/event/inventaires-de-terrains-cibles-sur-les-oiseaux-les-insectes-et-les-mammiferes/
LOCATION:Dingy-en-Vuache\, Marlioz\, Cercier\, France
CATEGORIES:France
END:VEVENT
BEGIN:VEVENT
DTSTART;TZID=Europe/Paris:20230612T080000
DTEND;TZID=Europe/Paris:20230616T170000
DTSTAMP:20260424T044450
CREATED:20230602T092119Z
LAST-MODIFIED:20230602T092119Z
UID:1950-1686556800-1686934800@faisability.crdev.gr
SUMMARY:Investigations des sites de surface et des Boreholes.
DESCRIPTION:Inventaires de terrains ciblés sur les oiseaux\, les insectes et les mammifères
URL:https://faisability.crdev.gr/event/investigations-des-sites-de-surface-et-des-boreholes/
LOCATION:Eteaux\, la Roche-sur-Foron\, France
CATEGORIES:France
END:VEVENT
BEGIN:VEVENT
DTSTART;TZID=Europe/Paris:20230619T080000
DTEND;TZID=Europe/Paris:20230623T170000
DTSTAMP:20260424T044450
CREATED:20230616T113218Z
LAST-MODIFIED:20230616T142823Z
UID:1974-1687161600-1687539600@faisability.crdev.gr
SUMMARY:Investigations des sites de surface et des Boreholes.
DESCRIPTION:Inventaires des insectes
URL:https://faisability.crdev.gr/event/investigations-des-sites-de-surface-et-des-boreholes-2/
LOCATION:Dingy-en-Vuache\, Marlioz\, Cercier\, France
CATEGORIES:France
END:VEVENT
BEGIN:VEVENT
DTSTART;TZID=Europe/Paris:20230619T080000
DTEND;TZID=Europe/Paris:20230623T170000
DTSTAMP:20260424T044450
CREATED:20230616T143210Z
LAST-MODIFIED:20230616T143210Z
UID:2001-1687161600-1687539600@faisability.crdev.gr
SUMMARY:Investigations des sites de surface et des Boreholes.
DESCRIPTION:Inventaire des reptiles
URL:https://faisability.crdev.gr/event/investigations-des-sites-de-surface-et-des-boreholes-7/
LOCATION:Eteaux\, la Roche-sur-Foron\, France
CATEGORIES:France
END:VEVENT
BEGIN:VEVENT
DTSTART;TZID=Europe/Paris:20230626T080000
DTEND;TZID=Europe/Paris:20230630T170000
DTSTAMP:20260424T044450
CREATED:20230616T114553Z
LAST-MODIFIED:20230616T142917Z
UID:1986-1687766400-1688144400@faisability.crdev.gr
SUMMARY:Investigations des sites de surface et des Boreholes.
DESCRIPTION:Investigation des oiseaux
URL:https://faisability.crdev.gr/event/investigations-des-sites-de-surface-et-des-boreholes-4/
LOCATION:Amancy\, Cornier\, Arenthon\, Scientrier\, Nangy\, Mandallaz\, Usses\, Département de la Haute-Savoie\, France
CATEGORIES:France
END:VEVENT
BEGIN:VEVENT
DTSTART;TZID=Europe/Paris:20230626T080000
DTEND;TZID=Europe/Paris:20230630T170000
DTSTAMP:20260424T044450
CREATED:20230616T144526Z
LAST-MODIFIED:20230623T072451Z
UID:2010-1687766400-1688144400@faisability.crdev.gr
SUMMARY:Investigations des sites de surface et des Boreholes.
DESCRIPTION:Inventaire des reptiles
URL:https://faisability.crdev.gr/event/investigations-des-sites-de-surface-et-des-boreholes-8/
LOCATION:Pougny\, Vulbens\,Dingy-en-Vuache\, Ferney-Voltaire\, Prevessin-Moens Meyrin Challex\, Marlioz Cercier
CATEGORIES:France
END:VEVENT
END:VCALENDAR