BEGIN:VCALENDAR
VERSION:2.0
PRODID:-//CERN ⎜ ❍ Futur Collisionneur Circulaire - ECPv6.2.8.2//NONSGML v1.0//EN
CALSCALE:GREGORIAN
METHOD:PUBLISH
X-ORIGINAL-URL:https://faisability.crdev.gr
X-WR-CALDESC:évènements pour CERN ⎜ ❍ Futur Collisionneur Circulaire
REFRESH-INTERVAL;VALUE=DURATION:PT1H
X-Robots-Tag:noindex
X-PUBLISHED-TTL:PT1H
BEGIN:VTIMEZONE
TZID:Europe/Paris
BEGIN:DAYLIGHT
TZOFFSETFROM:+0100
TZOFFSETTO:+0200
TZNAME:CEST
DTSTART:20220327T010000
END:DAYLIGHT
BEGIN:STANDARD
TZOFFSETFROM:+0200
TZOFFSETTO:+0100
TZNAME:CET
DTSTART:20221030T010000
END:STANDARD
END:VTIMEZONE
BEGIN:VEVENT
DTSTART;VALUE=DATE:20221121
DTEND;VALUE=DATE:20221122
DTSTAMP:20260424T135527
CREATED:20221121T112517Z
LAST-MODIFIED:20221201T112401Z
UID:1729-1668988800-1669075199@faisability.crdev.gr
SUMMARY:Évaluation environnementale des sites de sous-sol
DESCRIPTION:Visite avec le consortium Egis/Quantum
URL:https://faisability.crdev.gr/event/environmental-investigation-of-subsurface-sites-5/
LOCATION:Dingy-en-Vuache\, Savigny\, Chaumont Minzier\, Département de la Haute-Savoie\, France
CATEGORIES:France
END:VEVENT
BEGIN:VEVENT
DTSTART;VALUE=DATE:20221121
DTEND;VALUE=DATE:20221122
DTSTAMP:20260424T135527
CREATED:20221121T112728Z
LAST-MODIFIED:20221201T112523Z
UID:1732-1668988800-1669075199@faisability.crdev.gr
SUMMARY:Évaluation environnementale des sites de sous-sol
DESCRIPTION:Visite avec le consortium Egis/Quantum.
URL:https://faisability.crdev.gr/event/environmental-investigation-of-subsurface-sites-6/
LOCATION:Vulbens\, Pougny\, Départements de Ain et de la Haute-SavoieAin Haute-Savoie\, France
CATEGORIES:France
END:VEVENT
BEGIN:VEVENT
DTSTART;TZID=Europe/Paris:20221121T080000
DTEND;TZID=Europe/Paris:20221121T170000
DTSTAMP:20260424T135527
CREATED:20221121T104333Z
LAST-MODIFIED:20221201T112211Z
UID:1708-1669017600-1669050000@faisability.crdev.gr
SUMMARY:Evaluation environnementale des sites de surface
DESCRIPTION:
URL:https://faisability.crdev.gr/event/environmental-investigation-of-surface-sites-5/
LOCATION:Cercier & Marlioz\, Cercier & Marlioz\, Département de la Haute-Savoie\, France
CATEGORIES:France
END:VEVENT
BEGIN:VEVENT
DTSTART;TZID=Europe/Paris:20221121T080000
DTEND;TZID=Europe/Paris:20221121T170000
DTSTAMP:20260424T135527
CREATED:20221121T112357Z
LAST-MODIFIED:20221201T112519Z
UID:1726-1669017600-1669050000@faisability.crdev.gr
SUMMARY:Évaluation environnementale des sites de sous-sol
DESCRIPTION:Visite avec le consortium Egis/Quantum pour inspection visuelle
URL:https://faisability.crdev.gr/event/environmental-investigation-of-subsurface-sites-4/
LOCATION:Marlioz Cercier\, Département de la Haute-Savoie\, France
CATEGORIES:France
END:VEVENT
BEGIN:VEVENT
DTSTART;VALUE=DATE:20221123
DTEND;VALUE=DATE:20221124
DTSTAMP:20260424T135527
CREATED:20221121T102608Z
LAST-MODIFIED:20221201T112056Z
UID:1690-1669161600-1669247999@faisability.crdev.gr
SUMMARY:Evaluation environnementale et écologique des sites de surface
DESCRIPTION:
URL:https://faisability.crdev.gr/event/nvironmental-and-ecological-investigation-of-surface-sites/
LOCATION:Challex
CATEGORIES:France
END:VEVENT
BEGIN:VEVENT
DTSTART;VALUE=DATE:20221125
DTEND;VALUE=DATE:20221126
DTSTAMP:20260424T135527
CREATED:20221121T101915Z
LAST-MODIFIED:20221201T111753Z
UID:1684-1669334400-1669420799@faisability.crdev.gr
SUMMARY:Evaluation environnementale et écologique des sites de surface
DESCRIPTION:
URL:https://faisability.crdev.gr/event/environmental-and-ecological-investigation-of-surface-sites/
LOCATION:Ferney-Voltaire\, Ferney-Voltaire\, Département Ain\, France
CATEGORIES:France
END:VEVENT
BEGIN:VEVENT
DTSTART;VALUE=DATE:20221125
DTEND;VALUE=DATE:20221126
DTSTAMP:20260424T135527
CREATED:20221121T103358Z
LAST-MODIFIED:20221201T111700Z
UID:1700-1669334400-1669420799@faisability.crdev.gr
SUMMARY:Evaluation environnementale des sites de surface
DESCRIPTION:
URL:https://faisability.crdev.gr/event/environmental-investigation-of-surface-sites-3/
LOCATION:Etaux\, Département de la Haute-Savoie\, France
CATEGORIES:France
END:VEVENT
BEGIN:VEVENT
DTSTART;VALUE=DATE:20221125
DTEND;VALUE=DATE:20221126
DTSTAMP:20260424T135527
CREATED:20221121T104029Z
LAST-MODIFIED:20221201T111635Z
UID:1704-1669334400-1669420799@faisability.crdev.gr
SUMMARY:Evaluation environnementale des sites de surface
DESCRIPTION:
URL:https://faisability.crdev.gr/event/environmental-investigation-of-surface-sites-4/
LOCATION:Charvonnex\, Charvonnex\, Département de la Haute-Savoie\, France
CATEGORIES:France
END:VEVENT
BEGIN:VEVENT
DTSTART;VALUE=DATE:20221129
DTEND;VALUE=DATE:20221130
DTSTAMP:20260424T135527
CREATED:20221121T112038Z
LAST-MODIFIED:20221201T111554Z
UID:1720-1669680000-1669766399@faisability.crdev.gr
SUMMARY:Environmental investigation of subsurface sites
DESCRIPTION:Visite avec le consortium Egis/Quantum.
URL:https://faisability.crdev.gr/event/environmental-investigation-of-subsurface-sites-2/
LOCATION:Choisy\, Allonzier-la-Caille\, Cuvat\, Département de la Haute-Savoie\, France
CATEGORIES:France
END:VEVENT
BEGIN:VEVENT
DTSTART;VALUE=DATE:20221130
DTEND;VALUE=DATE:20221201
DTSTAMP:20260424T135527
CREATED:20221121T105438Z
LAST-MODIFIED:20221201T111425Z
UID:1717-1669766400-1669852799@faisability.crdev.gr
SUMMARY:Evaluation environnementale des sites de surface
DESCRIPTION:Visite avec le consortium Egis/Quantum
URL:https://faisability.crdev.gr/event/evaluation-environnementale-des-sites-de-surface/
LOCATION:La Roche-sur-Foron\, Département de la Haute-Savoie\, France
CATEGORIES:France
END:VEVENT
BEGIN:VEVENT
DTSTART;VALUE=DATE:20221130
DTEND;VALUE=DATE:20221201
DTSTAMP:20260424T135527
CREATED:20221121T112219Z
LAST-MODIFIED:20221201T111325Z
UID:1723-1669766400-1669852799@faisability.crdev.gr
SUMMARY:Evaluation environnementale des sites de surface
DESCRIPTION:Visite du consortium Egis/Quantum.
URL:https://faisability.crdev.gr/event/environmental-investigation-of-subsurface-sites-3/
LOCATION:Amancy\, Cornier\, Arenthon\, Scientrier\, Nangy\, Mandallaz\, Usses\, Département de la Haute-Savoie\, France
CATEGORIES:France
END:VEVENT
END:VCALENDAR