BEGIN:VCALENDAR
VERSION:2.0
PRODID:-//CERN ⎜ ❍ Futur Collisionneur Circulaire - ECPv6.2.8.2//NONSGML v1.0//EN
CALSCALE:GREGORIAN
METHOD:PUBLISH
X-WR-CALNAME:CERN ⎜ ❍ Futur Collisionneur Circulaire
X-ORIGINAL-URL:https://faisability.crdev.gr
X-WR-CALDESC:évènements pour CERN ⎜ ❍ Futur Collisionneur Circulaire
REFRESH-INTERVAL;VALUE=DURATION:PT1H
X-Robots-Tag:noindex
X-PUBLISHED-TTL:PT1H
BEGIN:VTIMEZONE
TZID:Europe/Paris
BEGIN:DAYLIGHT
TZOFFSETFROM:+0100
TZOFFSETTO:+0200
TZNAME:CEST
DTSTART:20250330T010000
END:DAYLIGHT
BEGIN:STANDARD
TZOFFSETFROM:+0200
TZOFFSETTO:+0100
TZNAME:CET
DTSTART:20251026T010000
END:STANDARD
END:VTIMEZONE
BEGIN:VEVENT
DTSTART;VALUE=DATE:20250515
DTEND;VALUE=DATE:20250605
DTSTAMP:20260422T124040
CREATED:20250522T160447Z
LAST-MODIFIED:20250522T160447Z
UID:3495-1747267200-1749081599@faisability.crdev.gr
SUMMARY:Inventaire des bryophytes
DESCRIPTION:Il existe une liste rouge des bryophytes (communément appelés “mousses”) en France et en Suisse\, il est donc nécessaire de réaliser un inventaire de ces organismes peu connus. Un inventaire des bryophytes sera effectué sur les sites de surface.
URL:https://faisability.crdev.gr/event/inventaire-des-bryophytes/
LOCATION:Presinge & Choulex\, Nangy\, Etaux\, Cercier\, Groisy & Charvonnex\, Dingy-En-Vuache\, Challex\, Satigny\, Dardagny\, Ferney-Voltaire\, Prevessin-Moens\, Meyrin.
CATEGORIES:France,Suisse
END:VEVENT
END:VCALENDAR