BEGIN:VCALENDAR
VERSION:2.0
PRODID:-//CERN ⎜ ❍ Futur Collisionneur Circulaire - ECPv6.2.8.2//NONSGML v1.0//EN
CALSCALE:GREGORIAN
METHOD:PUBLISH
X-WR-CALNAME:CERN ⎜ ❍ Futur Collisionneur Circulaire
X-ORIGINAL-URL:https://faisability.crdev.gr
X-WR-CALDESC:évènements pour CERN ⎜ ❍ Futur Collisionneur Circulaire
REFRESH-INTERVAL;VALUE=DURATION:PT1H
X-Robots-Tag:noindex
X-PUBLISHED-TTL:PT1H
BEGIN:VTIMEZONE
TZID:Europe/Paris
BEGIN:DAYLIGHT
TZOFFSETFROM:+0100
TZOFFSETTO:+0200
TZNAME:CEST
DTSTART:20240331T010000
END:DAYLIGHT
BEGIN:STANDARD
TZOFFSETFROM:+0200
TZOFFSETTO:+0100
TZNAME:CET
DTSTART:20241027T010000
END:STANDARD
END:VTIMEZONE
BEGIN:VEVENT
DTSTART;VALUE=DATE:20240812
DTEND;VALUE=DATE:20240829
DTSTAMP:20260423T011411
CREATED:20240912T152825Z
LAST-MODIFIED:20240912T152825Z
UID:2616-1723420800-1724889599@faisability.crdev.gr
SUMMARY:Pose de sonomètres
DESCRIPTION:Pose de sonomètres pendant 24 heures pour mesurer le niveau de bruit moyen dans l’emprise des sites de surface.
URL:https://faisability.crdev.gr/event/pose-de-sonometres-2/
LOCATION:Presinge & Choulex
CATEGORIES:Suisse
END:VEVENT
END:VCALENDAR