BEGIN:VCALENDAR
VERSION:2.0
PRODID:-//CERN ⎜ ❍ Futur Collisionneur Circulaire - ECPv6.2.8.2//NONSGML v1.0//EN
CALSCALE:GREGORIAN
METHOD:PUBLISH
X-WR-CALNAME:CERN ⎜ ❍ Futur Collisionneur Circulaire
X-ORIGINAL-URL:https://faisability.crdev.gr
X-WR-CALDESC:évènements pour CERN ⎜ ❍ Futur Collisionneur Circulaire
REFRESH-INTERVAL;VALUE=DURATION:PT1H
X-Robots-Tag:noindex
X-PUBLISHED-TTL:PT1H
BEGIN:VTIMEZONE
TZID:Europe/Paris
BEGIN:DAYLIGHT
TZOFFSETFROM:+0100
TZOFFSETTO:+0200
TZNAME:CEST
DTSTART:20240331T010000
END:DAYLIGHT
BEGIN:STANDARD
TZOFFSETFROM:+0200
TZOFFSETTO:+0100
TZNAME:CET
DTSTART:20241027T010000
END:STANDARD
END:VTIMEZONE
BEGIN:VEVENT
DTSTART;VALUE=DATE:20240620
DTEND;VALUE=DATE:20240622
DTSTAMP:20260423T051923
CREATED:20240618T093644Z
LAST-MODIFIED:20240618T093644Z
UID:2570-1718841600-1719014399@faisability.crdev.gr
SUMMARY:Mesure de la qualité de l'air
DESCRIPTION:Pose d’échantillonneurs pour mesurer la qualité de l’air dans l’emprise des sites de surface
URL:https://faisability.crdev.gr/event/mesure-de-la-qualite-de-lair/
LOCATION:Presinge & Choulex\, Nangy\, Etaux\, Cercier\, Groisy & Charvonnex\, Dingy-En-Vuache\, Challex\, Satigny\, Dardagny\, Ferney-Voltaire\, Prevessin-Moens\, Meyrin.
CATEGORIES:France,Suisse
END:VEVENT
END:VCALENDAR