BEGIN:VCALENDAR
VERSION:2.0
PRODID:-//CERN ⎜ ❍ Futur Collisionneur Circulaire - ECPv6.2.8.2//NONSGML v1.0//EN
CALSCALE:GREGORIAN
METHOD:PUBLISH
X-ORIGINAL-URL:https://faisability.crdev.gr
X-WR-CALDESC:évènements pour CERN ⎜ ❍ Futur Collisionneur Circulaire
REFRESH-INTERVAL;VALUE=DURATION:PT1H
X-Robots-Tag:noindex
X-PUBLISHED-TTL:PT1H
BEGIN:VTIMEZONE
TZID:Europe/Paris
BEGIN:DAYLIGHT
TZOFFSETFROM:+0100
TZOFFSETTO:+0200
TZNAME:CEST
DTSTART:20240331T010000
END:DAYLIGHT
BEGIN:STANDARD
TZOFFSETFROM:+0200
TZOFFSETTO:+0100
TZNAME:CET
DTSTART:20241027T010000
END:STANDARD
END:VTIMEZONE
BEGIN:VEVENT
DTSTART;TZID=Europe/Paris:20240501T080000
DTEND;TZID=Europe/Paris:20240531T170000
DTSTAMP:20260423T065411
CREATED:20240502T164455Z
LAST-MODIFIED:20240502T164455Z
UID:2509-1714550400-1717174800@faisability.crdev.gr
SUMMARY:Recensements de l'avifaune nicheuse
DESCRIPTION:Des ornithologues se rendront sur les sites de surface dans le but de recenser les oiseaux durant la période de nidification.
URL:https://faisability.crdev.gr/event/recensements-de-lavifaune-nicheuse-2/
LOCATION:Presinge & Choulex\, Nangy\, Etaux\, Cercier\, Charvonnex\, Dingy\, Challex\, Satigny\, Dardagny\, Ferney-Voltaire\, Prevessin-Moens\, Meyrin.
CATEGORIES:France,Suisse
END:VEVENT
END:VCALENDAR