BEGIN:VCALENDAR
VERSION:2.0
PRODID:-//CERN ⎜ ❍ Futur Collisionneur Circulaire - ECPv6.2.8.2//NONSGML v1.0//EN
CALSCALE:GREGORIAN
METHOD:PUBLISH
X-ORIGINAL-URL:https://faisability.crdev.gr
X-WR-CALDESC:évènements pour CERN ⎜ ❍ Futur Collisionneur Circulaire
REFRESH-INTERVAL;VALUE=DURATION:PT1H
X-Robots-Tag:noindex
X-PUBLISHED-TTL:PT1H
BEGIN:VTIMEZONE
TZID:Europe/Paris
BEGIN:DAYLIGHT
TZOFFSETFROM:+0100
TZOFFSETTO:+0200
TZNAME:CEST
DTSTART:20240331T010000
END:DAYLIGHT
BEGIN:STANDARD
TZOFFSETFROM:+0200
TZOFFSETTO:+0100
TZNAME:CET
DTSTART:20241027T010000
END:STANDARD
END:VTIMEZONE
BEGIN:VEVENT
DTSTART;VALUE=DATE:20240226
DTEND;VALUE=DATE:20240304
DTSTAMP:20260423T102934
CREATED:20240222T100550Z
LAST-MODIFIED:20240229T102500Z
UID:2391-1708905600-1709510399@faisability.crdev.gr
SUMMARY:Prospection des sites potentiels de valorisation de matériel excavé
DESCRIPTION:
URL:https://faisability.crdev.gr/event/prospection-des-sites-potentiels-de-valorisation-de-materiel-excave/
LOCATION:Nangy\, Département de la Haute-Savoie\, France
CATEGORIES:France
END:VEVENT
END:VCALENDAR