BEGIN:VCALENDAR
VERSION:2.0
PRODID:-//CERN ⎜ ❍ Futur Collisionneur Circulaire - ECPv6.2.8.2//NONSGML v1.0//EN
CALSCALE:GREGORIAN
METHOD:PUBLISH
X-WR-CALNAME:CERN ⎜ ❍ Futur Collisionneur Circulaire
X-ORIGINAL-URL:https://faisability.crdev.gr
X-WR-CALDESC:évènements pour CERN ⎜ ❍ Futur Collisionneur Circulaire
REFRESH-INTERVAL;VALUE=DURATION:PT1H
X-Robots-Tag:noindex
X-PUBLISHED-TTL:PT1H
BEGIN:VTIMEZONE
TZID:Europe/Paris
BEGIN:DAYLIGHT
TZOFFSETFROM:+0100
TZOFFSETTO:+0200
TZNAME:CEST
DTSTART:20240331T010000
END:DAYLIGHT
BEGIN:STANDARD
TZOFFSETFROM:+0200
TZOFFSETTO:+0100
TZNAME:CET
DTSTART:20241027T010000
END:STANDARD
END:VTIMEZONE
BEGIN:VEVENT
DTSTART;VALUE=DATE:20240115
DTEND;VALUE=DATE:20240118
DTSTAMP:20260423T132619
CREATED:20240111T144938Z
LAST-MODIFIED:20240111T144938Z
UID:2360-1705276800-1705535999@faisability.crdev.gr
SUMMARY:Investigation pédologique
DESCRIPTION:
URL:https://faisability.crdev.gr/event/investigation-pedologique-17/
LOCATION:Nangy\, Scientrier\, Arenthon\, Amancy\, La Roche sur Foron\, Challex\, Minzier\, Savigny\, Vulbens\, Pougny\,Dingy-En-Vuache
CATEGORIES:France
END:VEVENT
BEGIN:VEVENT
DTSTART;VALUE=DATE:20240115
DTEND;VALUE=DATE:20240118
DTSTAMP:20260423T132619
CREATED:20240111T145051Z
LAST-MODIFIED:20240111T145051Z
UID:2362-1705276800-1705535999@faisability.crdev.gr
SUMMARY:Investigation pédologique
DESCRIPTION:
URL:https://faisability.crdev.gr/event/investigation-pedologique-18/
LOCATION:Allonzier-la-Caille\, Choisy
CATEGORIES:France
END:VEVENT
END:VCALENDAR