BEGIN:VCALENDAR
VERSION:2.0
PRODID:-//CERN ⎜ ❍ Futur Collisionneur Circulaire - ECPv6.2.8.2//NONSGML v1.0//EN
CALSCALE:GREGORIAN
METHOD:PUBLISH
X-WR-CALNAME:CERN ⎜ ❍ Futur Collisionneur Circulaire
X-ORIGINAL-URL:https://faisability.crdev.gr
X-WR-CALDESC:évènements pour CERN ⎜ ❍ Futur Collisionneur Circulaire
REFRESH-INTERVAL;VALUE=DURATION:PT1H
X-Robots-Tag:noindex
X-PUBLISHED-TTL:PT1H
BEGIN:VTIMEZONE
TZID:Europe/Paris
BEGIN:DAYLIGHT
TZOFFSETFROM:+0100
TZOFFSETTO:+0200
TZNAME:CEST
DTSTART:20230326T010000
END:DAYLIGHT
BEGIN:STANDARD
TZOFFSETFROM:+0200
TZOFFSETTO:+0100
TZNAME:CET
DTSTART:20231029T010000
END:STANDARD
END:VTIMEZONE
BEGIN:VEVENT
DTSTART;VALUE=DATE:20231002
DTEND;VALUE=DATE:20231007
DTSTAMP:20260423T180614
CREATED:20231003T080814Z
LAST-MODIFIED:20231003T081546Z
UID:2227-1696204800-1696636799@faisability.crdev.gr
SUMMARY:Investigations des sites de surface
DESCRIPTION:Indice de biodiversité potentielle (IBP)\nL’IBP est un outil qui permet de définir la biodiversité dans les zones forestières. Cet indicateur définit la capacité d’accueil d’une forêt pour la biodiversité (plantes\, oiseaux\, insectes…). Ces recensements auront pour but de définir les dendromicrohabitats des zones forestières présentes sur les sites de surface du projet. Les recenseurs effectueront un trajet planifié au préalable à travers la forêt et y noteront les différentes structures favorables à la biodiversité\, comme des cavités\, espaces entre les écorces\, exsudats\, excroissances\, etc.). Notre méthodologie s’appuie essentiellement sur le “Guide de poche des dendromicrohabitats” rédigé par le WSL. Ce type de recensement permet d’estimer indirectement la biodiversité en prenant en compte les facteurs responsables de la diversité interne des peuplements forestiers. \n 
URL:https://faisability.crdev.gr/event/investigations-des-sites-de-surface-7/
LOCATION:Charvonnex\, Cercier-Marlioz\, Etaux
CATEGORIES:France
END:VEVENT
BEGIN:VEVENT
DTSTART;VALUE=DATE:20231002
DTEND;VALUE=DATE:20231007
DTSTAMP:20260423T180614
CREATED:20230920T142651Z
LAST-MODIFIED:20231002T154521Z
UID:2206-1696204800-1696636799@faisability.crdev.gr
SUMMARY:Inventaires de terrains ciblés sur les reptiles et les amphibiens
DESCRIPTION:
URL:https://faisability.crdev.gr/event/inventaires-de-terrains-cibles-sur-les-reptiles-et-les-amphibiens-8/
LOCATION:Pougny\, Farges\, Vulbens\, Arenthon\, Scientrier\, Challex\, Dardagny
CATEGORIES:France,Suisse
END:VEVENT
BEGIN:VEVENT
DTSTART;VALUE=DATE:20231002
DTEND;VALUE=DATE:20231007
DTSTAMP:20260423T180614
CREATED:20231002T154713Z
LAST-MODIFIED:20231002T154713Z
UID:2205-1696204800-1696636799@faisability.crdev.gr
SUMMARY:Inventaires de terrains ciblés sur les reptiles et les amphibiens
DESCRIPTION:
URL:https://faisability.crdev.gr/event/inventaires-de-terrains-cibles-sur-les-reptiles-et-les-amphibiens-6/
LOCATION:Dingy-En-Vuache\,\, Challex\, Ferney-Voltaire
CATEGORIES:France
END:VEVENT
END:VCALENDAR