BEGIN:VCALENDAR
VERSION:2.0
PRODID:-//CERN ⎜ ❍ Futur Collisionneur Circulaire - ECPv6.2.8.2//NONSGML v1.0//EN
CALSCALE:GREGORIAN
METHOD:PUBLISH
X-ORIGINAL-URL:https://faisability.crdev.gr
X-WR-CALDESC:évènements pour CERN ⎜ ❍ Futur Collisionneur Circulaire
REFRESH-INTERVAL;VALUE=DURATION:PT1H
X-Robots-Tag:noindex
X-PUBLISHED-TTL:PT1H
BEGIN:VTIMEZONE
TZID:Europe/Paris
BEGIN:DAYLIGHT
TZOFFSETFROM:+0100
TZOFFSETTO:+0200
TZNAME:CEST
DTSTART:20230326T010000
END:DAYLIGHT
BEGIN:STANDARD
TZOFFSETFROM:+0200
TZOFFSETTO:+0100
TZNAME:CET
DTSTART:20231029T010000
END:STANDARD
END:VTIMEZONE
BEGIN:VEVENT
DTSTART;TZID=Europe/Paris:20230801T080000
DTEND;TZID=Europe/Paris:20230804T170000
DTSTAMP:20260423T211134
CREATED:20230725T101143Z
LAST-MODIFIED:20230728T072907Z
UID:2079-1690876800-1691168400@faisability.crdev.gr
SUMMARY:Investigations des sites de surface et des sites de sondages
DESCRIPTION:Relevés forestiers
URL:https://faisability.crdev.gr/event/investigations-des-sites-de-surface-et-des-sites-de-sondages-7/
LOCATION:Ferney-Voltaire\, Prevessin-Moens\, Meyrin\, Challex
CATEGORIES:France
END:VEVENT
BEGIN:VEVENT
DTSTART;TZID=Europe/Paris:20230801T080000
DTEND;TZID=Europe/Paris:20230804T170000
DTSTAMP:20260423T211134
CREATED:20230728T073053Z
LAST-MODIFIED:20230728T073112Z
UID:2087-1690876800-1691168400@faisability.crdev.gr
SUMMARY:Investigations des sites de surface et des sites de sondages
DESCRIPTION:Relevés forestiers
URL:https://faisability.crdev.gr/event/investigations-des-sites-de-surface-et-des-sites-de-sondages-8/
LOCATION:Challex
CATEGORIES:France
END:VEVENT
BEGIN:VEVENT
DTSTART;TZID=Europe/Paris:20230801T080000
DTEND;TZID=Europe/Paris:20230908T170000
DTSTAMP:20260423T211134
CREATED:20230725T100652Z
LAST-MODIFIED:20230725T100652Z
UID:2077-1690876800-1694192400@faisability.crdev.gr
SUMMARY:Investigations des sites de surface et des sites de sondages
DESCRIPTION:Ecoutes ultrasonores des chauve-souris
URL:https://faisability.crdev.gr/event/investigations-des-sites-de-surface-et-des-sites-de-sondages-6/
LOCATION:Etaux\, Département de la Haute-Savoie\, France
CATEGORIES:France
END:VEVENT
BEGIN:VEVENT
DTSTART;TZID=Europe/Paris:20230803T080000
DTEND;TZID=Europe/Paris:20230804T170000
DTSTAMP:20260423T211134
CREATED:20230725T100129Z
LAST-MODIFIED:20230804T081728Z
UID:2070-1691049600-1691168400@faisability.crdev.gr
SUMMARY:Investigations des sites de surface et des sites de sondages
DESCRIPTION:Relevés paysagers et patrimoine bâti \n \n 
URL:https://faisability.crdev.gr/event/investigations-des-sites-de-surface-et-des-sites-de-sondages-4/
LOCATION:Nangy\, Département de la Haute-Savoie\, France
CATEGORIES:France
END:VEVENT
END:VCALENDAR