BEGIN:VCALENDAR
VERSION:2.0
PRODID:-//CERN ⎜ ❍ Futur Collisionneur Circulaire - ECPv6.2.8.2//NONSGML v1.0//EN
CALSCALE:GREGORIAN
METHOD:PUBLISH
X-ORIGINAL-URL:https://faisability.crdev.gr
X-WR-CALDESC:évènements pour CERN ⎜ ❍ Futur Collisionneur Circulaire
REFRESH-INTERVAL;VALUE=DURATION:PT1H
X-Robots-Tag:noindex
X-PUBLISHED-TTL:PT1H
BEGIN:VTIMEZONE
TZID:Europe/Paris
BEGIN:DAYLIGHT
TZOFFSETFROM:+0100
TZOFFSETTO:+0200
TZNAME:CEST
DTSTART:20230326T010000
END:DAYLIGHT
BEGIN:STANDARD
TZOFFSETFROM:+0200
TZOFFSETTO:+0100
TZNAME:CET
DTSTART:20231029T010000
END:STANDARD
END:VTIMEZONE
BEGIN:VEVENT
DTSTART;TZID=Europe/Paris:20230714T080000
DTEND;TZID=Europe/Paris:20230721T170000
DTSTAMP:20260423T224936
CREATED:20230714T140439Z
LAST-MODIFIED:20230714T140439Z
UID:2043-1689321600-1689958800@faisability.crdev.gr
SUMMARY:Investigations des sites de surface et des Boreholes.
DESCRIPTION:Inventaires des insectes
URL:https://faisability.crdev.gr/event/investigations-des-sites-de-surface-et-des-boreholes-13/
LOCATION:Ferney Voltaire\, Dingy sur Vuaches\, Cercier & Marlioz\, Satigny\, Choisy Allonzier-la-Caille Cuvat Dardagny Challex
CATEGORIES:France
END:VEVENT
BEGIN:VEVENT
DTSTART;TZID=Europe/Paris:20230714T080000
DTEND;TZID=Europe/Paris:20230721T170000
DTSTAMP:20260423T224936
CREATED:20230714T140640Z
LAST-MODIFIED:20230714T141045Z
UID:2046-1689321600-1689958800@faisability.crdev.gr
SUMMARY:Investigations des sites de surface et des Boreholes.
DESCRIPTION:Ecoutes ultrasonores des chauve souris
URL:https://faisability.crdev.gr/event/investigations-des-sites-de-surface-et-des-boreholes-16/
LOCATION:Amancy\, Cornier\, Arenthon\, Scientrier\, Nangy\, Mandallaz\, Usses\, Département de la Haute-Savoie\, France
CATEGORIES:France
END:VEVENT
BEGIN:VEVENT
DTSTART;TZID=Europe/Paris:20230714T080000
DTEND;TZID=Europe/Paris:20230721T170000
DTSTAMP:20260423T224936
CREATED:20230714T140949Z
LAST-MODIFIED:20230714T140949Z
UID:2050-1689321600-1689958800@faisability.crdev.gr
SUMMARY:Investigations des sites de surface et des Boreholes.
DESCRIPTION:Inventaires des reptiles
URL:https://faisability.crdev.gr/event/investigations-des-sites-de-surface-et-des-boreholes-17/
LOCATION:Satigny\, Dardagny
CATEGORIES:Suisse
END:VEVENT
BEGIN:VEVENT
DTSTART;TZID=Europe/Paris:20230719T080000
DTEND;TZID=Europe/Paris:20230719T170000
DTSTAMP:20260423T224936
CREATED:20230719T082810Z
LAST-MODIFIED:20230719T082810Z
UID:2065-1689753600-1689786000@faisability.crdev.gr
SUMMARY:Investigations des sites de surface et des sites de sondages
DESCRIPTION:Inventaires des oiseaux estivaux
URL:https://faisability.crdev.gr/event/investigations-des-sites-de-surface-et-des-sites-de-sondages-2/
LOCATION:Dingy-en-Vuache\, Savigny\, Chaumont Minzier\, Département de la Haute-Savoie\, France
CATEGORIES:France
END:VEVENT
END:VCALENDAR