BEGIN:VCALENDAR
VERSION:2.0
PRODID:-//CERN ⎜ ❍ Futur Collisionneur Circulaire - ECPv6.2.8.2//NONSGML v1.0//EN
CALSCALE:GREGORIAN
METHOD:PUBLISH
X-ORIGINAL-URL:https://faisability.crdev.gr
X-WR-CALDESC:évènements pour CERN ⎜ ❍ Futur Collisionneur Circulaire
REFRESH-INTERVAL;VALUE=DURATION:PT1H
X-Robots-Tag:noindex
X-PUBLISHED-TTL:PT1H
BEGIN:VTIMEZONE
TZID:Europe/Paris
BEGIN:DAYLIGHT
TZOFFSETFROM:+0100
TZOFFSETTO:+0200
TZNAME:CEST
DTSTART:20230326T010000
END:DAYLIGHT
BEGIN:STANDARD
TZOFFSETFROM:+0200
TZOFFSETTO:+0100
TZNAME:CET
DTSTART:20231029T010000
END:STANDARD
END:VTIMEZONE
BEGIN:VEVENT
DTSTART;TZID=Europe/Paris:20230529T080000
DTEND;TZID=Europe/Paris:20230602T170000
DTSTAMP:20260424T002246
CREATED:20230531T142950Z
LAST-MODIFIED:20230531T142950Z
UID:1929-1685347200-1685725200@faisability.crdev.gr
SUMMARY:Investigations des sites de surface\, des BoreHoles et des seismic lines
DESCRIPTION:Inventaires de terrains ciblés sur les oiseaux\, les insectes et les mamifères.
URL:https://faisability.crdev.gr/event/investigations-des-sites-de-surface-des-boreholes-et-des-seismic-lines-8/
LOCATION:Ferney Voltaire\, Dingy sur Vuaches\, Cercier & Marlioz\, Satigny\, Choisy\, France
CATEGORIES:France,Suisse
END:VEVENT
BEGIN:VEVENT
DTSTART;TZID=Europe/Paris:20230529T080000
DTEND;TZID=Europe/Paris:20230602T170000
DTSTAMP:20260424T002246
CREATED:20230531T143138Z
LAST-MODIFIED:20230531T143138Z
UID:1932-1685347200-1685725200@faisability.crdev.gr
SUMMARY:Investigations des sites de surface\, des BoreHoles et des seismic lines
DESCRIPTION:Inventaires de terrains ciblés sur les oiseaux\, les insectes et les mamifères
URL:https://faisability.crdev.gr/event/investigations-des-sites-de-surface-des-boreholes-et-des-seismic-lines-9/
LOCATION:Satigny\, Dardagny
CATEGORIES:Suisse
END:VEVENT
BEGIN:VEVENT
DTSTART;TZID=Europe/Paris:20230529T080000
DTEND;TZID=Europe/Paris:20230602T170000
DTSTAMP:20260424T002246
CREATED:20230531T150223Z
LAST-MODIFIED:20230531T150223Z
UID:1935-1685347200-1685725200@faisability.crdev.gr
SUMMARY:Investigations des sites de surface\, des BoreHoles et des seismic lines
DESCRIPTION:Inventaires de terrains ciblés sur la flore
URL:https://faisability.crdev.gr/event/investigations-des-sites-de-surface-des-boreholes-et-des-seismic-lines-10/
LOCATION:Satigny\, Dardagny
CATEGORIES:Suisse
END:VEVENT
BEGIN:VEVENT
DTSTART;TZID=Europe/Paris:20230529T080000
DTEND;TZID=Europe/Paris:20230602T170000
DTSTAMP:20260424T002246
CREATED:20230531T150320Z
LAST-MODIFIED:20230531T150320Z
UID:1937-1685347200-1685725200@faisability.crdev.gr
SUMMARY:Investigations des sites de surface\, des BoreHoles et des seismic lines
DESCRIPTION:Inventaires de terrains ciblés sur les oiseaux et les insectes
URL:https://faisability.crdev.gr/event/investigations-des-sites-de-surface-des-boreholes-et-des-seismic-lines-11/
LOCATION:Ferney Voltaire\, Dingy sur Vuaches\, Cercier & Marlioz\, Satigny\, Choisy Allonzier-la-Caille Cuvat Dardagny Challex
END:VEVENT
BEGIN:VEVENT
DTSTART;TZID=Europe/Paris:20230529T080000
DTEND;TZID=Europe/Paris:20230602T170000
DTSTAMP:20260424T002246
CREATED:20230531T150440Z
LAST-MODIFIED:20230531T150440Z
UID:1940-1685347200-1685725200@faisability.crdev.gr
SUMMARY:Investigations des sites de surface\, des BoreHoles et des seismic lines
DESCRIPTION:Inventaires de terrains ciblés sur les oiseaux
URL:https://faisability.crdev.gr/event/investigations-des-sites-de-surface-des-boreholes-et-des-seismic-lines-12/
LOCATION:Satigny\, Dardagny
CATEGORIES:Suisse
END:VEVENT
BEGIN:VEVENT
DTSTART;TZID=Europe/Paris:20230529T080000
DTEND;TZID=Europe/Paris:20230602T170000
DTSTAMP:20260424T002246
CREATED:20230531T150525Z
LAST-MODIFIED:20230531T150525Z
UID:1942-1685347200-1685725200@faisability.crdev.gr
SUMMARY:Investigations des sites de surface\, des BoreHoles et des seismic lines
DESCRIPTION:Inventaires de terrains ciblés sur les reptiles et les amphibiens
URL:https://faisability.crdev.gr/event/investigations-des-sites-de-surface-des-boreholes-et-des-seismic-lines-13/
LOCATION:Satigny\, Dardagny
CATEGORIES:Suisse
END:VEVENT
BEGIN:VEVENT
DTSTART;TZID=Europe/Paris:20230529T080000
DTEND;TZID=Europe/Paris:20230602T170000
DTSTAMP:20260424T002246
CREATED:20230531T150609Z
LAST-MODIFIED:20230531T150609Z
UID:1944-1685347200-1685725200@faisability.crdev.gr
SUMMARY:Investigations des sites de surface\, des BoreHoles et des seismic lines
DESCRIPTION:Inventaires de terrains ciblés sur les chauves souris
URL:https://faisability.crdev.gr/event/investigations-des-sites-de-surface-des-boreholes-et-des-seismic-lines-14/
LOCATION:Choulex\, Nangy\, France
CATEGORIES:France
END:VEVENT
END:VCALENDAR