BEGIN:VCALENDAR
VERSION:2.0
PRODID:-//CERN ⎜ ❍ Futur Collisionneur Circulaire - ECPv6.2.8.2//NONSGML v1.0//EN
CALSCALE:GREGORIAN
METHOD:PUBLISH
X-ORIGINAL-URL:https://faisability.crdev.gr
X-WR-CALDESC:évènements pour CERN ⎜ ❍ Futur Collisionneur Circulaire
REFRESH-INTERVAL;VALUE=DURATION:PT1H
X-Robots-Tag:noindex
X-PUBLISHED-TTL:PT1H
BEGIN:VTIMEZONE
TZID:Europe/Paris
BEGIN:DAYLIGHT
TZOFFSETFROM:+0100
TZOFFSETTO:+0200
TZNAME:CEST
DTSTART:20230326T010000
END:DAYLIGHT
BEGIN:STANDARD
TZOFFSETFROM:+0200
TZOFFSETTO:+0100
TZNAME:CET
DTSTART:20231029T010000
END:STANDARD
END:VTIMEZONE
BEGIN:VEVENT
DTSTART;TZID=Europe/Paris:20230508T080000
DTEND;TZID=Europe/Paris:20230512T170000
DTSTAMP:20260424T013944
CREATED:20230511T123657Z
LAST-MODIFIED:20230511T123657Z
UID:1899-1683532800-1683910800@faisability.crdev.gr
SUMMARY:Investigations des sites de surface\, des BoreHoles et des seismic lines
DESCRIPTION:Inventaires de terrains ciblés sur les insectes
URL:https://faisability.crdev.gr/event/investigations-des-sites-de-surface-des-boreholes-et-des-seismic-lines-5/
LOCATION:Satigny\, Dardagny
CATEGORIES:Suisse
END:VEVENT
BEGIN:VEVENT
DTSTART;TZID=Europe/Paris:20230508T080000
DTEND;TZID=Europe/Paris:20230512T170000
DTSTAMP:20260424T013944
CREATED:20230511T123740Z
LAST-MODIFIED:20230511T123740Z
UID:1902-1683532800-1683910800@faisability.crdev.gr
SUMMARY:Investigations des sites de surface\, des BoreHoles et des seismic lines
DESCRIPTION:Inventaires de terrains ciblés sur les oiseaux
URL:https://faisability.crdev.gr/event/investigations-des-sites-de-surface-des-boreholes-et-des-seismic-lines-6/
LOCATION:Pougny\, Vulbens\,Dingy-en-Vuache\, Ferney-Voltaire Prevessin-Moens Meyrin Challex\, Marlioz Cercier”
CATEGORIES:France
END:VEVENT
BEGIN:VEVENT
DTSTART;TZID=Europe/Paris:20230508T080000
DTEND;TZID=Europe/Paris:20230512T170000
DTSTAMP:20260424T013944
CREATED:20230511T123845Z
LAST-MODIFIED:20230511T123910Z
UID:1905-1683532800-1683910800@faisability.crdev.gr
SUMMARY:Investigations des sites de surface\, des BoreHoles et des seismic lines
DESCRIPTION:Inventaires batrachologiques & \n\n\n\nInvestigations floristiques de terrain
URL:https://faisability.crdev.gr/event/investigations-des-sites-de-surface-des-boreholes-et-des-seismic-lines-7/
LOCATION:Satigny\, Dardagny
CATEGORIES:Suisse
END:VEVENT
BEGIN:VEVENT
DTSTART;TZID=Europe/Paris:20230508T080000
DTEND;TZID=Europe/Paris:20230512T170000
DTSTAMP:20260424T013944
CREATED:20230511T123958Z
LAST-MODIFIED:20230511T123958Z
UID:1908-1683532800-1683910800@faisability.crdev.gr
SUMMARY:Investigations des BoreHoles et des seismic lines\, sites de surface
DESCRIPTION:Investigation des insectes (odonates) et des mammifères
URL:https://faisability.crdev.gr/event/investigations-des-boreholes-et-des-seismic-lines-sites-de-surface/
LOCATION:Pougny\, Vulbens\,Dingy-en-Vuache\, Ferney-Voltaire\, Prevessin-Moens Meyrin Challex\, Marlioz Cercier
CATEGORIES:France,Suisse
END:VEVENT
BEGIN:VEVENT
DTSTART;TZID=Europe/Paris:20230508T080000
DTEND;TZID=Europe/Paris:20230512T170000
DTSTAMP:20260424T013944
CREATED:20230511T124052Z
LAST-MODIFIED:20230511T124100Z
UID:1911-1683532800-1683910800@faisability.crdev.gr
SUMMARY:Investigations des BoreHoles et des seismic lines\, sites de surface
DESCRIPTION:Investigation des oiseaux
URL:https://faisability.crdev.gr/event/investigations-des-boreholes-et-des-seismic-lines-sites-de-surface-2/
LOCATION:Pougny\, Challex\, Dardagny
CATEGORIES:France,Suisse
END:VEVENT
END:VCALENDAR