BEGIN:VCALENDAR
VERSION:2.0
PRODID:-//CERN ⎜ ❍ Futur Collisionneur Circulaire - ECPv6.2.8.2//NONSGML v1.0//EN
CALSCALE:GREGORIAN
METHOD:PUBLISH
X-ORIGINAL-URL:https://faisability.crdev.gr
X-WR-CALDESC:évènements pour CERN ⎜ ❍ Futur Collisionneur Circulaire
REFRESH-INTERVAL;VALUE=DURATION:PT1H
X-Robots-Tag:noindex
X-PUBLISHED-TTL:PT1H
BEGIN:VTIMEZONE
TZID:Europe/Paris
BEGIN:DAYLIGHT
TZOFFSETFROM:+0100
TZOFFSETTO:+0200
TZNAME:CEST
DTSTART:20230326T010000
END:DAYLIGHT
BEGIN:STANDARD
TZOFFSETFROM:+0200
TZOFFSETTO:+0100
TZNAME:CET
DTSTART:20231029T010000
END:STANDARD
END:VTIMEZONE
BEGIN:VEVENT
DTSTART;TZID=Europe/Paris:20230315T080000
DTEND;TZID=Europe/Paris:20230315T170000
DTSTAMP:20260424T043754
CREATED:20230404T075752Z
LAST-MODIFIED:20230404T075752Z
UID:1846-1678867200-1678899600@faisability.crdev.gr
SUMMARY:Environmental investigation of surface sites
DESCRIPTION:Batrachology field investigations
URL:https://faisability.crdev.gr/event/environmental-investigation-of-surface-sites-2/
LOCATION:Ferney-Voltaire\, Ferney-Voltaire\, Département Ain\, France
CATEGORIES:France
END:VEVENT
BEGIN:VEVENT
DTSTART;TZID=Europe/Paris:20230315T080000
DTEND;TZID=Europe/Paris:20230315T170000
DTSTAMP:20260424T043754
CREATED:20230404T075852Z
LAST-MODIFIED:20230404T075852Z
UID:1848-1678867200-1678899600@faisability.crdev.gr
SUMMARY:Environmental investigation of surface sites
DESCRIPTION:Batrachology field investigations
URL:https://faisability.crdev.gr/event/environmental-investigation-of-surface-sites-6/
LOCATION:Etaux\, Département de la Haute-Savoie\, France
CATEGORIES:France
END:VEVENT
BEGIN:VEVENT
DTSTART;TZID=Europe/Paris:20230315T080000
DTEND;TZID=Europe/Paris:20230315T170000
DTSTAMP:20260424T043754
CREATED:20230404T075938Z
LAST-MODIFIED:20230404T075938Z
UID:1850-1678867200-1678899600@faisability.crdev.gr
SUMMARY:Environmental investigation of surface sites
DESCRIPTION:Ornithology field investigations
URL:https://faisability.crdev.gr/event/environmental-investigation-of-surface-sites-7/
LOCATION:Ferney-Voltaire\, Ferney-Voltaire\, Département Ain\, France
CATEGORIES:France
END:VEVENT
BEGIN:VEVENT
DTSTART;TZID=Europe/Paris:20230315T080000
DTEND;TZID=Europe/Paris:20230315T170000
DTSTAMP:20260424T043754
CREATED:20230404T080010Z
LAST-MODIFIED:20230404T080010Z
UID:1852-1678867200-1678899600@faisability.crdev.gr
SUMMARY:Environmental investigation of surface sites
DESCRIPTION:Ornithology field investigations
URL:https://faisability.crdev.gr/event/environmental-investigation-of-surface-sites-8/
LOCATION:Etaux\, Département de la Haute-Savoie\, France
CATEGORIES:France
END:VEVENT
BEGIN:VEVENT
DTSTART;TZID=Europe/Paris:20230315T080000
DTEND;TZID=Europe/Paris:20230315T170000
DTSTAMP:20260424T043754
CREATED:20230404T080041Z
LAST-MODIFIED:20230404T080041Z
UID:1854-1678867200-1678899600@faisability.crdev.gr
SUMMARY:Environmental investigation of surface sites
DESCRIPTION:Ornithology field investigations
URL:https://faisability.crdev.gr/event/environmental-investigation-of-surface-sites-9/
LOCATION:Nangy\, Département de la Haute-Savoie\, France
CATEGORIES:France
END:VEVENT
BEGIN:VEVENT
DTSTART;TZID=Europe/Paris:20230315T080000
DTEND;TZID=Europe/Paris:20230315T170000
DTSTAMP:20260424T043754
CREATED:20230404T080148Z
LAST-MODIFIED:20230404T080148Z
UID:1856-1678867200-1678899600@faisability.crdev.gr
SUMMARY:Environmental investigation of surface sites
DESCRIPTION:Ornithology field investigations
URL:https://faisability.crdev.gr/event/environmental-investigation-of-surface-sites-10/
LOCATION:Dingy-en-Vuache
CATEGORIES:France
END:VEVENT
END:VCALENDAR